BEGIN:VCALENDAR
VERSION:2.0
PRODID:-//Create.Vegas - ECPv6.15.20//NONSGML v1.0//EN
CALSCALE:GREGORIAN
METHOD:PUBLISH
X-WR-CALNAME:Create.Vegas
X-ORIGINAL-URL:https://create.vegas
X-WR-CALDESC:Events for Create.Vegas
REFRESH-INTERVAL;VALUE=DURATION:PT1H
X-Robots-Tag:noindex
X-PUBLISHED-TTL:PT1H
BEGIN:VTIMEZONE
TZID:America/Los_Angeles
BEGIN:DAYLIGHT
TZOFFSETFROM:-0800
TZOFFSETTO:-0700
TZNAME:PDT
DTSTART:20250309T100000
END:DAYLIGHT
BEGIN:STANDARD
TZOFFSETFROM:-0700
TZOFFSETTO:-0800
TZNAME:PST
DTSTART:20251102T090000
END:STANDARD
BEGIN:DAYLIGHT
TZOFFSETFROM:-0800
TZOFFSETTO:-0700
TZNAME:PDT
DTSTART:20260308T100000
END:DAYLIGHT
BEGIN:STANDARD
TZOFFSETFROM:-0700
TZOFFSETTO:-0800
TZNAME:PST
DTSTART:20261101T090000
END:STANDARD
BEGIN:DAYLIGHT
TZOFFSETFROM:-0800
TZOFFSETTO:-0700
TZNAME:PDT
DTSTART:20270314T100000
END:DAYLIGHT
BEGIN:STANDARD
TZOFFSETFROM:-0700
TZOFFSETTO:-0800
TZNAME:PST
DTSTART:20271107T090000
END:STANDARD
END:VTIMEZONE
BEGIN:VEVENT
DTSTART;TZID=America/Los_Angeles:20260502T210000
DTEND;TZID=America/Los_Angeles:20260502T210000
DTSTAMP:20260422T220036
CREATED:20260407T170822Z
LAST-MODIFIED:20260421T171753Z
UID:10034342-1777755600-1777755600@create.vegas
SUMMARY:The Rocky Horror Picture Show with LIVE Shadow Cast – The Obsession of Las Vegas
DESCRIPTION:The all inclusive Rocky Horror Experience with a LIVE CAST! The Obsession is here to THRILL you\, CHILL you\, and FULFILL you\, celebrating 50 years with this Cult Classic\, Record Breaking Film! The Obsession was established in 2001\, and is a 501(c)(3) Non-Profit. Our 3 pillars are: Love and Acceptance for LGBTQIA+ Identities\, Consent\, and Body Positivity. OLV accepts donations\, which are NON-REFUNDABLE. Bar available for 21+ Guests. \nAges: R-Rated Movie\, those under age 18: Parent or Guardian MUST be present and show Valid ID. Viewers under 14 are not recommended. Adult Content\, strong language/themes and partial nudity. \nDoors for VIP at 8:00 pm\, General Admission at 8:15 pm. \nIntroductions\, Costume Contest\, and ‘Virgin Sacrifice’ begin at 8:45 pm. \nThe movie & performance will begin at approximately 9:00 pm. \n‘After Party’ with Bar Service and Character Meet & Greets Available after the movie. \nProp Kits available at Merch Booth for $5 Donation\, cash preferred. \n‘VIP Package Upgrade Available at Merch Booth before the show! $15 Donation VIP Upgrade includes: Guaranteed Seating in Front 2 Rows (A & B)\, an Audience Participation Survival/Prop Kit\, and a Souvenir Polaroid Photo with a Character (redeem after show). \nMinimum donation $20 to use card at the door. \n‘NO OUTSIDE PROPS ALLOWED. \nBuy Tickets \nAges: 14+ \nfor VIP at 8:00 pm\nGeneral Admission at 8:15 pm\nShow Time at 09:00 pm \nPARKING INFO: Parking is available underneath Neonopolis from 4th street and Fremont\, the ramp is on the right side of the street just past Denny’s. Park on level P2. Once parked\, take the parking elevator from the parking garage up to the 3rd floor. Notoriety’s doors are straight ahead once you come off of the elevator.
URL:https://create.vegas/event/the-rocky-horror-picture-show-with-live-shadow-cast-the-obsession-of-las-vegas-2/
LOCATION:Notoriety\, 450 Fremont Street\, Suite 380\, Las Vegas\, NV\, 89101\, United States
CATEGORIES:Performing Arts,The Rocky Horror Picture Show
ATTACH;FMTTYPE=image/png:https://create.vegas/wp-content/uploads/2026/04/RockyHorror01-U2v1mK.png
END:VEVENT
END:VCALENDAR