BEGIN:VCALENDAR
VERSION:2.0
PRODID:-//Create.Vegas - ECPv6.15.20//NONSGML v1.0//EN
CALSCALE:GREGORIAN
METHOD:PUBLISH
X-ORIGINAL-URL:https://create.vegas
X-WR-CALDESC:Events for Create.Vegas
REFRESH-INTERVAL;VALUE=DURATION:PT1H
X-Robots-Tag:noindex
X-PUBLISHED-TTL:PT1H
BEGIN:VTIMEZONE
TZID:America/Los_Angeles
BEGIN:DAYLIGHT
TZOFFSETFROM:-0800
TZOFFSETTO:-0700
TZNAME:PDT
DTSTART:20240310T100000
END:DAYLIGHT
BEGIN:STANDARD
TZOFFSETFROM:-0700
TZOFFSETTO:-0800
TZNAME:PST
DTSTART:20241103T090000
END:STANDARD
BEGIN:DAYLIGHT
TZOFFSETFROM:-0800
TZOFFSETTO:-0700
TZNAME:PDT
DTSTART:20250309T100000
END:DAYLIGHT
BEGIN:STANDARD
TZOFFSETFROM:-0700
TZOFFSETTO:-0800
TZNAME:PST
DTSTART:20251102T090000
END:STANDARD
BEGIN:DAYLIGHT
TZOFFSETFROM:-0800
TZOFFSETTO:-0700
TZNAME:PDT
DTSTART:20260308T100000
END:DAYLIGHT
BEGIN:STANDARD
TZOFFSETFROM:-0700
TZOFFSETTO:-0800
TZNAME:PST
DTSTART:20261101T090000
END:STANDARD
END:VTIMEZONE
BEGIN:VEVENT
DTSTART;TZID=America/Los_Angeles:20251206T193000
DTEND;TZID=America/Los_Angeles:20251206T235900
DTSTAMP:20260423T180417
CREATED:20251111T191446Z
LAST-MODIFIED:20251202T193312Z
UID:10031179-1765049400-1765065540@create.vegas
SUMMARY:Pop & Sol
DESCRIPTION:An evening where comedy and music collide! Ryan Popowcer will be performing stand-up comedy\, and American Idol finalist Mackenzie Sol will be headlining with his band! \nBuy Tickets \nAges 18+ \nDoors at 7:00 PM\nShow time at 7:30 PM \nPARKING INFO: Parking is available underneath Neonopolis from 4th street and Fremont\, the ramp is on the right side of the street just past Denny’s. Park on level P2. Once parked\, take the parking elevator from the parking garage up to the 3rd floor. Notoriety’s doors are straight ahead once you come off of the elevator.
URL:https://create.vegas/event/pop-sol/
LOCATION:Notoriety\, 450 Fremont Street\, Suite 380\, Las Vegas\, NV\, 89101\, United States
CATEGORIES:Performing Arts,Pop & Sol
ATTACH;FMTTYPE=image/png:https://create.vegas/wp-content/uploads/2025/11/Untitled-design-5-oIOIty.png
END:VEVENT
END:VCALENDAR