BEGIN:VCALENDAR
VERSION:2.0
PRODID:-//Create.Vegas - ECPv6.15.20//NONSGML v1.0//EN
CALSCALE:GREGORIAN
METHOD:PUBLISH
X-WR-CALNAME:Create.Vegas
X-ORIGINAL-URL:https://create.vegas
X-WR-CALDESC:Events for Create.Vegas
REFRESH-INTERVAL;VALUE=DURATION:PT1H
X-Robots-Tag:noindex
X-PUBLISHED-TTL:PT1H
BEGIN:VTIMEZONE
TZID:America/Los_Angeles
BEGIN:DAYLIGHT
TZOFFSETFROM:-0800
TZOFFSETTO:-0700
TZNAME:PDT
DTSTART:20250309T100000
END:DAYLIGHT
BEGIN:STANDARD
TZOFFSETFROM:-0700
TZOFFSETTO:-0800
TZNAME:PST
DTSTART:20251102T090000
END:STANDARD
BEGIN:DAYLIGHT
TZOFFSETFROM:-0800
TZOFFSETTO:-0700
TZNAME:PDT
DTSTART:20260308T100000
END:DAYLIGHT
BEGIN:STANDARD
TZOFFSETFROM:-0700
TZOFFSETTO:-0800
TZNAME:PST
DTSTART:20261101T090000
END:STANDARD
BEGIN:DAYLIGHT
TZOFFSETFROM:-0800
TZOFFSETTO:-0700
TZNAME:PDT
DTSTART:20270314T100000
END:DAYLIGHT
BEGIN:STANDARD
TZOFFSETFROM:-0700
TZOFFSETTO:-0800
TZNAME:PST
DTSTART:20271107T090000
END:STANDARD
END:VTIMEZONE
BEGIN:VEVENT
DTSTART;TZID=America/Los_Angeles:20260422T140000
DTEND;TZID=America/Los_Angeles:20260422T160000
DTSTAMP:20260422T045302
CREATED:20260326T230428Z
LAST-MODIFIED:20260326T230428Z
UID:10034159-1776866400-1776873600@create.vegas
SUMMARY:Earth Day Sandy Valley 2026
DESCRIPTION:Earth Day Sandy Valley NV Fifth Annual Micro*Fest: Let’s Play! \nEarth Day’s annual worldwide celebration will be honored in Sandy Valley\, Nevada (hour south of Las Vegas) on Wednesday April 22\, 2026\, from 2-4 p.m.\, rain or shine. \nThis year’s festival will provide informal community round tables that will include topics on local focused air\, water\, geology\, and gardening tips. \nThere will also be acoustic sing-alongs\, storytelling\, games giveaways and swap table for garden plants\, tools and small useful items. \nBenches\, bathrooms will be available; stadium-pads and lawn chair highly encouraged. You may also bring your lunch! \nFree for all ages. Event will be held at Peace Park\, 690 Quartz Sandy Valley\, NV. \n“Sandy Valley NV Earth Day: Decade of Micro*Fests” will be in memory of Sandy Valley developers and founders Richard and Drue Bale. \nMain contact: Marianne Donnelly \nEarth Day was established in 1970 by Senator Gaylord Nelson and Denis Hayes\, who garnering bipartisan support\, to bolster public consciousness about air and water pollution. \nBe a steward! Lear more here: 702-723-0085
URL:https://create.vegas/event/earth-day-sandy-valley-2026/
LOCATION:Sandy Valley Community Senior Center\, 695 Quartz\, Sandy Valley\, NV\, 89019\, United States
CATEGORIES:Family Friendly,Festival,Performing,Performing Arts
ATTACH;FMTTYPE=image/jpeg:https://create.vegas/wp-content/uploads/2026/03/Earth-Day-Sandy-Valley-2026-PFb76g.jpg
END:VEVENT
BEGIN:VEVENT
DTSTART;TZID=America/Los_Angeles:20260423T183000
DTEND;TZID=America/Los_Angeles:20260423T193000
DTSTAMP:20260422T045302
CREATED:20260326T230430Z
LAST-MODIFIED:20260326T230430Z
UID:10034171-1776969000-1776972600@create.vegas
SUMMARY:April Reading Series at Mountain Music Parlor\, April 23
DESCRIPTION:The first four weeks of April\, Mountain Music Parlor is hosting a three-poet reading on Thursday nights for National Poetry Month at 6:30 p.m. The third night\, April 23\, will feature Dani Putney\, Max Stone\, and Jesse James Ziegler. 
URL:https://create.vegas/event/april-reading-series-at-mountain-music-parlor-april-23/
LOCATION:Mountain Music Parlor\, 735 S Center St\, Reno\, NV\, 89501
CATEGORIES:Literary,Performing,Performing Arts
ATTACH;FMTTYPE=image/jpeg:https://create.vegas/wp-content/uploads/2026/03/d979b9bb-e4cd-4883-b877-f5e85b60764d-oosOTF.jpg
ORGANIZER;CN="Mountain Music Parlor":MAILTO:mountainmusicparlorreno@gmail.com
END:VEVENT
BEGIN:VEVENT
DTSTART;TZID=America/Los_Angeles:20260425T110000
DTEND;TZID=America/Los_Angeles:20260425T160000
DTSTAMP:20260422T045302
CREATED:20260326T230437Z
LAST-MODIFIED:20260326T230437Z
UID:10034201-1777114800-1777132800@create.vegas
SUMMARY:Caribbean Heritage Festival
DESCRIPTION:Sample the traditions\, music\, and flavors of the Caribbean. Bring a blanket or low back chair and enjoy a day of performances that will include calypso\, reggae\, traditional Cuban music and sounds direct from the Caribbean.  Also featuring children’ activities\, community exhibitors\, artisan vendor booths\, a variety of food trucks\, and an alcohol vendor. Sammy Davis Jr. Festival Plaza is outdoors. Ice chests permitted for water only. Parking is available throughout Lorenzi Park grounds. Pets will not be permitted inside the festival plaza.
URL:https://create.vegas/event/caribbean-heritage-festival-3/
LOCATION:Sammy Davis Jr. Festival Plaza\, 770 Twin Lakes Drive\, Las Vegas\, NV\, 89107\, United States
CATEGORIES:Family Friendly,Festival,Performing,Performing Arts
ATTACH;FMTTYPE=image/jpeg:https://create.vegas/wp-content/uploads/2026/03/CLV-Caribbean-Festival-149-scaled-f7YwnS.jpg
END:VEVENT
END:VCALENDAR