BEGIN:VCALENDAR
VERSION:2.0
PRODID:-//Create.Vegas - ECPv6.15.20//NONSGML v1.0//EN
CALSCALE:GREGORIAN
METHOD:PUBLISH
X-WR-CALNAME:Create.Vegas
X-ORIGINAL-URL:https://create.vegas
X-WR-CALDESC:Events for Create.Vegas
REFRESH-INTERVAL;VALUE=DURATION:PT1H
X-Robots-Tag:noindex
X-PUBLISHED-TTL:PT1H
BEGIN:VTIMEZONE
TZID:America/Los_Angeles
BEGIN:DAYLIGHT
TZOFFSETFROM:-0800
TZOFFSETTO:-0700
TZNAME:PDT
DTSTART:20250309T100000
END:DAYLIGHT
BEGIN:STANDARD
TZOFFSETFROM:-0700
TZOFFSETTO:-0800
TZNAME:PST
DTSTART:20251102T090000
END:STANDARD
BEGIN:DAYLIGHT
TZOFFSETFROM:-0800
TZOFFSETTO:-0700
TZNAME:PDT
DTSTART:20260308T100000
END:DAYLIGHT
BEGIN:STANDARD
TZOFFSETFROM:-0700
TZOFFSETTO:-0800
TZNAME:PST
DTSTART:20261101T090000
END:STANDARD
BEGIN:DAYLIGHT
TZOFFSETFROM:-0800
TZOFFSETTO:-0700
TZNAME:PDT
DTSTART:20270314T100000
END:DAYLIGHT
BEGIN:STANDARD
TZOFFSETFROM:-0700
TZOFFSETTO:-0800
TZNAME:PST
DTSTART:20271107T090000
END:STANDARD
END:VTIMEZONE
BEGIN:VEVENT
DTSTART;TZID=America/Los_Angeles:20260307T130000
DTEND;TZID=America/Los_Angeles:20260307T160000
DTSTAMP:20260422T125943
CREATED:20260224T230418Z
LAST-MODIFIED:20260224T230418Z
UID:10033335-1772888400-1772899200@create.vegas
SUMMARY:2026 Poetry Out Loud Nevada State Finals
DESCRIPTION:Nevada high school students from six counties across the state advanced through school and county-level Poetry Out Loud recitation competitions. At this statewide gathering\, these students will share prepared memorized recitations of selected poetry. \nThe winner of this gathering will represent the state of Nevada in the National Poetry Out Loud Finals held in Washington\, D.C.\, from April 27-29\, 2026.
URL:https://create.vegas/event/2026-poetry-out-loud-nevada-state-finals/
LOCATION:Joe Crowley Student Union Theatre – University of Nevada\, Reno\, 1664 N. Virginia St.\, Reno\, 89557\, United States
CATEGORIES:Family Friendly,Literary,Performing,Performing Arts
ATTACH;FMTTYPE=image/png:https://create.vegas/wp-content/uploads/2026/02/NDTCA-240114-052-POL25-Web-Banner-v1.0-1440x480-F-jx6Cp7.png
END:VEVENT
BEGIN:VEVENT
DTSTART;TZID=America/Los_Angeles:20260307T140000
DTEND;TZID=America/Los_Angeles:20260307T160000
DTSTAMP:20260422T125943
CREATED:20260224T230539Z
LAST-MODIFIED:20260224T230539Z
UID:10033506-1772892000-1772899200@create.vegas
SUMMARY:Rainbow Company Youth Theatre presents Starmites
DESCRIPTION:Shy teenager Eleanor has built a fantasy world around the sci-fi comic books she collects. To the distress of her mother\, she has learned to avoid the pains of growing up by escaping into fantasy\, imagining herself to be an unrecognized superhero. When she is mysteriously thrust into the Website World of her favorite comic book\, Eleanor is drawn into the conflict between Shak Graa\, Arch-Creep of Chaos\, and the Starmites\, guardian angels of Innerspace. Eleanor learns to own up to the inner power she has always denied\, defeating her foes and conquering the evil force of the “Cruelty.”
URL:https://create.vegas/event/rainbow-company-youth-theatre-presents-starmites-2/
LOCATION:Charleston Heights Arts Center\, 800 Brush St.\, Las Vegas\, NV\, 89107\, United States
CATEGORIES:Family Friendly,Performing,Performing Arts
ATTACH;FMTTYPE=image/png:https://create.vegas/wp-content/uploads/2026/02/Starmites_1210x450-RiibC3.png
END:VEVENT
BEGIN:VEVENT
DTSTART;TZID=America/Los_Angeles:20260307T190000
DTEND;TZID=America/Los_Angeles:20260307T210000
DTSTAMP:20260422T125943
CREATED:20260224T230539Z
LAST-MODIFIED:20260224T230539Z
UID:10033507-1772910000-1772917200@create.vegas
SUMMARY:Rainbow Company Youth Theatre presents Starmites
DESCRIPTION:Shy teenager Eleanor has built a fantasy world around the sci-fi comic books she collects. To the distress of her mother\, she has learned to avoid the pains of growing up by escaping into fantasy\, imagining herself to be an unrecognized superhero. When she is mysteriously thrust into the Website World of her favorite comic book\, Eleanor is drawn into the conflict between Shak Graa\, Arch-Creep of Chaos\, and the Starmites\, guardian angels of Innerspace. Eleanor learns to own up to the inner power she has always denied\, defeating her foes and conquering the evil force of the “Cruelty.”
URL:https://create.vegas/event/rainbow-company-youth-theatre-presents-starmites-3/
LOCATION:Charleston Heights Arts Center\, 800 Brush St.\, Las Vegas\, NV\, 89107\, United States
CATEGORIES:Family Friendly,Performing,Performing Arts
ATTACH;FMTTYPE=image/png:https://create.vegas/wp-content/uploads/2026/02/Starmites_1210x450-RiibC3.png
END:VEVENT
BEGIN:VEVENT
DTSTART;TZID=America/Los_Angeles:20260307T193000
DTEND;TZID=America/Los_Angeles:20260307T213000
DTSTAMP:20260422T125943
CREATED:20260224T230420Z
LAST-MODIFIED:20260224T230420Z
UID:10033336-1772911800-1772919000@create.vegas
SUMMARY:Bat Boy: The Musical
DESCRIPTION:Story and book by Keythe Farley and Brian Flemming\nMusic and lyrics by Laurence O’Keefe\nDirected by Susanna Vaughan\nMusic Direction by Aren Long\nChoreography by Nate Hodges   \n\n\nReserved Seating: Adults: $25; University of Nevada\, Reno Faculty & Staff\, Seniors (65+)\, Non-UNR Students: $20; UNR Students: $5 (Additional transaction fees may apply). Tickets and information at unr.edu/theatre-dance
URL:https://create.vegas/event/bat-boy-the-musical-2/
LOCATION:Redfield Proscenium Theatre\, Church Fine Arts\, University of Nevada\, Reno\, 1335 N. Virginia St.\, Reno\, NV\, 89512\, United States
CATEGORIES:Performing,Performing Arts
ATTACH;FMTTYPE=image/jpeg:https://create.vegas/wp-content/uploads/2026/02/UNRDTD-250149-Bat-Boy-Musical-Poster-F-5-scaled-bHLxYy.jpg
ORGANIZER;CN="Department of Theatre and Dance &#8211%3B University of Nevada%2C Reno":MAILTO:theatreanddance@unr.edu
END:VEVENT
END:VCALENDAR