BEGIN:VCALENDAR
VERSION:2.0
PRODID:-//Create.Vegas - ECPv6.15.20//NONSGML v1.0//EN
CALSCALE:GREGORIAN
METHOD:PUBLISH
X-ORIGINAL-URL:https://create.vegas
X-WR-CALDESC:Events for Create.Vegas
REFRESH-INTERVAL;VALUE=DURATION:PT1H
X-Robots-Tag:noindex
X-PUBLISHED-TTL:PT1H
BEGIN:VTIMEZONE
TZID:America/Los_Angeles
BEGIN:DAYLIGHT
TZOFFSETFROM:-0800
TZOFFSETTO:-0700
TZNAME:PDT
DTSTART:20250309T100000
END:DAYLIGHT
BEGIN:STANDARD
TZOFFSETFROM:-0700
TZOFFSETTO:-0800
TZNAME:PST
DTSTART:20251102T090000
END:STANDARD
BEGIN:DAYLIGHT
TZOFFSETFROM:-0800
TZOFFSETTO:-0700
TZNAME:PDT
DTSTART:20260308T100000
END:DAYLIGHT
BEGIN:STANDARD
TZOFFSETFROM:-0700
TZOFFSETTO:-0800
TZNAME:PST
DTSTART:20261101T090000
END:STANDARD
BEGIN:DAYLIGHT
TZOFFSETFROM:-0800
TZOFFSETTO:-0700
TZNAME:PDT
DTSTART:20270314T100000
END:DAYLIGHT
BEGIN:STANDARD
TZOFFSETFROM:-0700
TZOFFSETTO:-0800
TZNAME:PST
DTSTART:20271107T090000
END:STANDARD
END:VTIMEZONE
BEGIN:VEVENT
DTSTART;TZID=America/Los_Angeles:20260225T100000
DTEND;TZID=America/Los_Angeles:20260225T120000
DTSTAMP:20260422T130448
CREATED:20260224T230323Z
LAST-MODIFIED:20260224T230323Z
UID:10033240-1772013600-1772020800@create.vegas
SUMMARY:Chinese New Year Celebration at NCA Learning Center Baby University
DESCRIPTION:NCA Learning Center “Baby University” will be hosting a vibrant Chinese New Year Celebration on Tuesday\, Feb. 25\, bringing together students\, families\, and staff for a meaningful cultural experience. The event will feature traditional Chinese New Year elements such as festive decorations\, student performances\, music and dance presentations\, cultural demonstrations\, and interactive activities designed to help children learn about the holiday’s history and traditions. \nThis celebration highlights the unique cultural diversity within our school community and promotes understanding\, respect\, and appreciation for global traditions. Students will have the opportunity to showcase what they have learned through classroom lessons and performances\, while families and guests enjoy a joyful atmosphere filled with cultural pride\, community connection\, and celebration. \nThe event reflects NCA Learning Center’s commitment to cultural education and creating an inclusive environment where children can learn about and embrace traditions from around the world.
URL:https://create.vegas/event/chinese-new-year-celebration-at-nca-learning-center-baby-university/
LOCATION:Windmill Library\, 7060 W Windmill Ln\, Las Vegas\, NV\, 89113\, United States
CATEGORIES:Family Friendly,Folklife,Performing,Performing Arts
ORGANIZER;CN="NCA Baby University":MAILTO:main@ncaus.education
END:VEVENT
END:VCALENDAR