BEGIN:VCALENDAR
VERSION:2.0
PRODID:-//Create.Vegas - ECPv6.15.20//NONSGML v1.0//EN
CALSCALE:GREGORIAN
METHOD:PUBLISH
X-ORIGINAL-URL:https://create.vegas
X-WR-CALDESC:Events for Create.Vegas
REFRESH-INTERVAL;VALUE=DURATION:PT1H
X-Robots-Tag:noindex
X-PUBLISHED-TTL:PT1H
BEGIN:VTIMEZONE
TZID:America/Los_Angeles
BEGIN:DAYLIGHT
TZOFFSETFROM:-0800
TZOFFSETTO:-0700
TZNAME:PDT
DTSTART:20250309T100000
END:DAYLIGHT
BEGIN:STANDARD
TZOFFSETFROM:-0700
TZOFFSETTO:-0800
TZNAME:PST
DTSTART:20251102T090000
END:STANDARD
BEGIN:DAYLIGHT
TZOFFSETFROM:-0800
TZOFFSETTO:-0700
TZNAME:PDT
DTSTART:20260308T100000
END:DAYLIGHT
BEGIN:STANDARD
TZOFFSETFROM:-0700
TZOFFSETTO:-0800
TZNAME:PST
DTSTART:20261101T090000
END:STANDARD
BEGIN:DAYLIGHT
TZOFFSETFROM:-0800
TZOFFSETTO:-0700
TZNAME:PDT
DTSTART:20270314T100000
END:DAYLIGHT
BEGIN:STANDARD
TZOFFSETFROM:-0700
TZOFFSETTO:-0800
TZNAME:PST
DTSTART:20271107T090000
END:STANDARD
END:VTIMEZONE
BEGIN:VEVENT
DTSTART;TZID=America/Los_Angeles:20260215T180000
DTEND;TZID=America/Los_Angeles:20260215T210000
DTSTAMP:20260422T164153
CREATED:20260125T224929Z
LAST-MODIFIED:20260125T224929Z
UID:10032900-1771178400-1771189200@create.vegas
SUMMARY:Kendra Erika – Licensed to Thrill: The James Bond Songbook Album Release Showcase
DESCRIPTION:Join acclaimed singer-songwriter Kendra Erika for an exclusive album release showcase celebrating the launch of her newest project\, “Licensed to Thrill: The James Bond Songbook.” Taking place in Las Vegas on Sunday\, Feb. 15\, this special evening marks the first live celebration of the album\, which is officially released on Feb. 13. \nInspired by the timeless glamour\, sophistication\, and cinematic storytelling of the iconic James Bond songs\, “Licensed to Thrill: The James Bond Songbook” represents a bold artistic evolution for Kendra Erika. Known for her five Billboard Top Ten dance hits\, Kendra steps into a new creative era with lush orchestration\, jazz-infused arrangements\, and powerful vocals that honor the legacy of Bond while delivering a modern interpretation. \nThe evening begins with a VIP Red Carpet arrival and reception from 6-7 p.m.\, featuring professional photo opportunities\, passed hors d’oeuvres\, and a champagne toast. VIP guests will enjoy early entry\, reserved seating\, and an intimate pre-show experience designed to reflect the elegance and intrigue of the Bond universe. \nGeneral Admission doors open at 7 p.m. \nThe showcase performance begins at 8 p.m.\, as Kendra Erika brings selections from “Licensed to Thrill: The James Bond Songbook” to life on stage in a cinematic\, immersive setting. Special guests and industry attendees will join music lovers for a night of style\, storytelling\, and celebration. \nFormal or cocktail attire is encouraged in keeping with the Bond-inspired theme. \nEvent Details:Date: Sunday\, Feb. 15Venue: The Space\, Las VegasAddress: 3460 Cavaretta Court\, Las Vegas\, NV 89103 \nVIP Red Carpet Arrival & Reception: 6-7 p.m.General Admission Doors: 7 p.m.Showtime: 8 p.m. \nTickets and additional event information is available at www.KendraErika.com
URL:https://create.vegas/event/kendra-erika-licensed-to-thrill-the-james-bond-songbook-album-release-showcase/
LOCATION:The Space\, 3460 Cavaretta Ct\, Las Vegas\, NV\, United States
CATEGORIES:Performing,Performing Arts,Visual
ATTACH;FMTTYPE=image/jpeg:https://create.vegas/wp-content/uploads/2026/01/License-To-Thrill-003-Edit-scaled-mGr1GN.jpg
GEO:36.110569;-115.186048
X-APPLE-STRUCTURED-LOCATION;VALUE=URI;X-ADDRESS=The Space 3460 Cavaretta Ct Las Vegas NV United States;X-APPLE-RADIUS=500;X-TITLE=3460 Cavaretta Ct:geo:-115.186048,36.110569
END:VEVENT
END:VCALENDAR