BEGIN:VCALENDAR
VERSION:2.0
PRODID:-//Create.Vegas - ECPv6.15.20//NONSGML v1.0//EN
CALSCALE:GREGORIAN
METHOD:PUBLISH
X-ORIGINAL-URL:https://create.vegas
X-WR-CALDESC:Events for Create.Vegas
REFRESH-INTERVAL;VALUE=DURATION:PT1H
X-Robots-Tag:noindex
X-PUBLISHED-TTL:PT1H
BEGIN:VTIMEZONE
TZID:America/Los_Angeles
BEGIN:DAYLIGHT
TZOFFSETFROM:-0800
TZOFFSETTO:-0700
TZNAME:PDT
DTSTART:20250309T100000
END:DAYLIGHT
BEGIN:STANDARD
TZOFFSETFROM:-0700
TZOFFSETTO:-0800
TZNAME:PST
DTSTART:20251102T090000
END:STANDARD
BEGIN:DAYLIGHT
TZOFFSETFROM:-0800
TZOFFSETTO:-0700
TZNAME:PDT
DTSTART:20260308T100000
END:DAYLIGHT
BEGIN:STANDARD
TZOFFSETFROM:-0700
TZOFFSETTO:-0800
TZNAME:PST
DTSTART:20261101T090000
END:STANDARD
BEGIN:DAYLIGHT
TZOFFSETFROM:-0800
TZOFFSETTO:-0700
TZNAME:PDT
DTSTART:20270314T100000
END:DAYLIGHT
BEGIN:STANDARD
TZOFFSETFROM:-0700
TZOFFSETTO:-0800
TZNAME:PST
DTSTART:20271107T090000
END:STANDARD
END:VTIMEZONE
BEGIN:VEVENT
DTSTART;TZID=America/Los_Angeles:20260601T000000
DTEND;TZID=America/Los_Angeles:20260601T235959
DTSTAMP:20260421T105919
CREATED:20250509T171903Z
LAST-MODIFIED:20250807T173408Z
UID:10028278-1780272000-1780358399@create.vegas
SUMMARY:8pm/$5 Door: Las Vegues Trio
DESCRIPTION:
URL:https://create.vegas/event/hold-las-vegs-trio-44/
CATEGORIES:Rock & Punk
END:VEVENT
BEGIN:VEVENT
DTSTART;TZID=America/Los_Angeles:20260603T190000
DTEND;TZID=America/Los_Angeles:20260603T220000
DTSTAMP:20260421T105919
CREATED:20250709T024911Z
LAST-MODIFIED:20251007T024823Z
UID:10029040-1780513200-1780524000@create.vegas
SUMMARY:Vintage Glam _ A Nostalgic Evening
DESCRIPTION:Come join us for a night of old-school glamour\, timeless tunes\, classic cocktails\, and scrumptious bites.  2 drink minimum per person.
URL:https://create.vegas/event/vintage-glam-_-a-nostalgic-evening-23/
LOCATION:The Lexi Las Vegas\, 1501 West Sahara Avenue\, Las Vegas\, NV\, 89102\, United States
CATEGORIES:Rock & Punk
ATTACH;FMTTYPE=image/jpeg:https://create.vegas/wp-content/uploads/2025/07/6e372c260d560a8a2ef4892d05b4b684.jpg
END:VEVENT
BEGIN:VEVENT
DTSTART;TZID=America/Los_Angeles:20260608T000000
DTEND;TZID=America/Los_Angeles:20260608T235959
DTSTAMP:20260421T105919
CREATED:20250509T171904Z
LAST-MODIFIED:20250807T173408Z
UID:10028280-1780876800-1780963199@create.vegas
SUMMARY:8pm/$5 Door: Las Vegues Trio
DESCRIPTION:
URL:https://create.vegas/event/hold-las-vegs-trio-45/
CATEGORIES:Rock & Punk
END:VEVENT
BEGIN:VEVENT
DTSTART;TZID=America/Los_Angeles:20260610T190000
DTEND;TZID=America/Los_Angeles:20260610T220000
DTSTAMP:20260421T105919
CREATED:20250709T024911Z
LAST-MODIFIED:20251007T024823Z
UID:10029041-1781118000-1781128800@create.vegas
SUMMARY:Vintage Glam _ A Nostalgic Evening
DESCRIPTION:Come join us for a night of old-school glamour\, timeless tunes\, classic cocktails\, and scrumptious bites.  2 drink minimum per person.
URL:https://create.vegas/event/vintage-glam-_-a-nostalgic-evening-24/
LOCATION:The Lexi Las Vegas\, 1501 West Sahara Avenue\, Las Vegas\, NV\, 89102\, United States
CATEGORIES:Rock & Punk
ATTACH;FMTTYPE=image/jpeg:https://create.vegas/wp-content/uploads/2025/07/6e372c260d560a8a2ef4892d05b4b684.jpg
END:VEVENT
BEGIN:VEVENT
DTSTART;TZID=America/Los_Angeles:20260611T000000
DTEND;TZID=America/Los_Angeles:20260611T235959
DTSTAMP:20260421T105919
CREATED:20251121T181945Z
LAST-MODIFIED:20251121T181945Z
UID:10031481-1781136000-1781222399@create.vegas
SUMMARY:10pm/5Door: DV8 Big Band Lead by: David Vincola
DESCRIPTION:
URL:https://create.vegas/event/10pm-5door-dv8-big-band-lead-by-david-vincola-18/
CATEGORIES:Rock & Punk
END:VEVENT
BEGIN:VEVENT
DTSTART;TZID=America/Los_Angeles:20260615T000000
DTEND;TZID=America/Los_Angeles:20260615T235959
DTSTAMP:20260421T105919
CREATED:20250509T171904Z
LAST-MODIFIED:20250807T173409Z
UID:10028282-1781481600-1781567999@create.vegas
SUMMARY:8pm/$5 Door: Las Vegues Trio
DESCRIPTION:
URL:https://create.vegas/event/hold-las-vegs-trio-46/
CATEGORIES:Rock & Punk
END:VEVENT
BEGIN:VEVENT
DTSTART;TZID=America/Los_Angeles:20260617T190000
DTEND;TZID=America/Los_Angeles:20260617T220000
DTSTAMP:20260421T105919
CREATED:20250709T024912Z
LAST-MODIFIED:20251007T024824Z
UID:10029042-1781722800-1781733600@create.vegas
SUMMARY:Vintage Glam _ A Nostalgic Evening
DESCRIPTION:Come join us for a night of old-school glamour\, timeless tunes\, classic cocktails\, and scrumptious bites.  2 drink minimum per person.
URL:https://create.vegas/event/vintage-glam-_-a-nostalgic-evening-25/
LOCATION:The Lexi Las Vegas\, 1501 West Sahara Avenue\, Las Vegas\, NV\, 89102\, United States
CATEGORIES:Rock & Punk
ATTACH;FMTTYPE=image/jpeg:https://create.vegas/wp-content/uploads/2025/07/6e372c260d560a8a2ef4892d05b4b684.jpg
END:VEVENT
BEGIN:VEVENT
DTSTART;TZID=America/Los_Angeles:20260619T190000
DTEND;TZID=America/Los_Angeles:20260619T233000
DTSTAMP:20260421T105919
CREATED:20260204T014754Z
LAST-MODIFIED:20260406T034748Z
UID:10032993-1781895600-1781911800@create.vegas
SUMMARY:POLKADOT CADAVER     THE ANGRY TOONS      ALGORERHYTHM
DESCRIPTION:Get ready to rock with POLKADOT CADAVER\, THE ANGRY TOONS & ALGORERHYTHM live and loud!\n\n\nPOLKADOT CADAVER     THE ANGRY TOONS      ALGORERHYTHM Event \nGet Ready for POLKADOT CADAVER\, THE ANGRY TOONS & ALGORERHYTHM!\nCome hang out in person and catch an epic lineup featuring POLKADOT CADAVER\, THE ANGRY TOONS\, and ALGORERHYTHM. Expect high energy vibes\, killer tunes\, and a wicked good time. Don’t miss out on this live experience that’s sure to blow your mind!
URL:https://create.vegas/event/polkadot-cadaver-the-angry-toons-algorerhythm/
LOCATION:DIVEBAR Las Vegas\, 4110 S MARYLAND PARKWAY\, #12\, Las Vegas\, NV\, 89119\, United States
CATEGORIES:Rock & Punk
ATTACH;FMTTYPE=image/jpeg:https://create.vegas/wp-content/uploads/2026/02/65c746b781fd8ebe03b752822b042bb6.jpg
END:VEVENT
BEGIN:VEVENT
DTSTART;TZID=America/Los_Angeles:20260622T000000
DTEND;TZID=America/Los_Angeles:20260622T235959
DTSTAMP:20260421T105919
CREATED:20250509T171904Z
LAST-MODIFIED:20250807T173409Z
UID:10028284-1782086400-1782172799@create.vegas
SUMMARY:8pm/$5 Door: Las Vegues Trio
DESCRIPTION:
URL:https://create.vegas/event/hold-las-vegs-trio-47/
CATEGORIES:Rock & Punk
END:VEVENT
BEGIN:VEVENT
DTSTART;TZID=America/Los_Angeles:20260624T190000
DTEND;TZID=America/Los_Angeles:20260624T220000
DTSTAMP:20260421T105919
CREATED:20250808T024857Z
LAST-MODIFIED:20251007T024824Z
UID:10029319-1782327600-1782338400@create.vegas
SUMMARY:Vintage Glam _ A Nostalgic Evening
DESCRIPTION:Come join us for a night of old-school glamour\, timeless tunes\, classic cocktails\, and scrumptious bites.  2 drink minimum per person.
URL:https://create.vegas/event/vintage-glam-_-a-nostalgic-evening-26/
LOCATION:The Lexi Las Vegas\, 1501 West Sahara Avenue\, Las Vegas\, NV\, 89102\, United States
CATEGORIES:Rock & Punk
ATTACH;FMTTYPE=image/jpeg:https://create.vegas/wp-content/uploads/2025/07/6e372c260d560a8a2ef4892d05b4b684.jpg
END:VEVENT
BEGIN:VEVENT
DTSTART;TZID=America/Los_Angeles:20260629T000000
DTEND;TZID=America/Los_Angeles:20260629T235959
DTSTAMP:20260421T105919
CREATED:20250509T171904Z
LAST-MODIFIED:20250807T173409Z
UID:10028286-1782691200-1782777599@create.vegas
SUMMARY:8pm/$5 Door: Las Vegues Trio
DESCRIPTION:
URL:https://create.vegas/event/hold-las-vegs-trio-48/
CATEGORIES:Rock & Punk
END:VEVENT
BEGIN:VEVENT
DTSTART;TZID=America/Los_Angeles:20260701T190000
DTEND;TZID=America/Los_Angeles:20260701T220000
DTSTAMP:20260421T105919
CREATED:20250808T024857Z
LAST-MODIFIED:20251007T024825Z
UID:10029320-1782932400-1782943200@create.vegas
SUMMARY:Vintage Glam _ A Nostalgic Evening
DESCRIPTION:Come join us for a night of old-school glamour\, timeless tunes\, classic cocktails\, and scrumptious bites.  2 drink minimum per person.
URL:https://create.vegas/event/vintage-glam-_-a-nostalgic-evening-27/
LOCATION:The Lexi Las Vegas\, 1501 West Sahara Avenue\, Las Vegas\, NV\, 89102\, United States
CATEGORIES:Rock & Punk
ATTACH;FMTTYPE=image/jpeg:https://create.vegas/wp-content/uploads/2025/07/6e372c260d560a8a2ef4892d05b4b684.jpg
END:VEVENT
BEGIN:VEVENT
DTSTART;TZID=America/Los_Angeles:20260706T000000
DTEND;TZID=America/Los_Angeles:20260706T235959
DTSTAMP:20260421T105919
CREATED:20250509T171905Z
LAST-MODIFIED:20250807T173409Z
UID:10028287-1783296000-1783382399@create.vegas
SUMMARY:8pm/$5 Door: Las Vegues Trio
DESCRIPTION:
URL:https://create.vegas/event/hold-las-vegs-trio-49/
CATEGORIES:Rock & Punk
END:VEVENT
BEGIN:VEVENT
DTSTART;TZID=America/Los_Angeles:20260708T190000
DTEND;TZID=America/Los_Angeles:20260708T220000
DTSTAMP:20260421T105919
CREATED:20250808T024858Z
LAST-MODIFIED:20251007T024825Z
UID:10029321-1783537200-1783548000@create.vegas
SUMMARY:Vintage Glam _ A Nostalgic Evening
DESCRIPTION:Come join us for a night of old-school glamour\, timeless tunes\, classic cocktails\, and scrumptious bites.  2 drink minimum per person.
URL:https://create.vegas/event/vintage-glam-_-a-nostalgic-evening-28/
LOCATION:The Lexi Las Vegas\, 1501 West Sahara Avenue\, Las Vegas\, NV\, 89102\, United States
CATEGORIES:Rock & Punk
ATTACH;FMTTYPE=image/jpeg:https://create.vegas/wp-content/uploads/2025/07/6e372c260d560a8a2ef4892d05b4b684.jpg
END:VEVENT
BEGIN:VEVENT
DTSTART;TZID=America/Los_Angeles:20260709T000000
DTEND;TZID=America/Los_Angeles:20260709T235959
DTSTAMP:20260421T105919
CREATED:20251121T181949Z
LAST-MODIFIED:20251121T181949Z
UID:10031482-1783555200-1783641599@create.vegas
SUMMARY:10pm/$5Door: DV8 Big Band Lead by: David Vincola
DESCRIPTION:
URL:https://create.vegas/event/10pm-5door-dv8-big-band-lead-by-david-vincola-19/
CATEGORIES:Rock & Punk
END:VEVENT
BEGIN:VEVENT
DTSTART;TZID=America/Los_Angeles:20260713T000000
DTEND;TZID=America/Los_Angeles:20260713T235959
DTSTAMP:20260421T105919
CREATED:20250509T171905Z
LAST-MODIFIED:20250807T173409Z
UID:10028288-1783900800-1783987199@create.vegas
SUMMARY:8pm/$5 Door: Las Vegues Trio
DESCRIPTION:
URL:https://create.vegas/event/hold-las-vegs-trio-50/
CATEGORIES:Rock & Punk
END:VEVENT
BEGIN:VEVENT
DTSTART;TZID=America/Los_Angeles:20260720T000000
DTEND;TZID=America/Los_Angeles:20260720T235959
DTSTAMP:20260421T105919
CREATED:20250509T171905Z
LAST-MODIFIED:20250807T173409Z
UID:10028289-1784505600-1784591999@create.vegas
SUMMARY:8pm/$5 Door: Las Vegues Trio
DESCRIPTION:
URL:https://create.vegas/event/hold-las-vegs-trio-51/
CATEGORIES:Rock & Punk
END:VEVENT
BEGIN:VEVENT
DTSTART;TZID=America/Los_Angeles:20260727T000000
DTEND;TZID=America/Los_Angeles:20260727T235959
DTSTAMP:20260421T105919
CREATED:20250509T171906Z
LAST-MODIFIED:20250807T173409Z
UID:10028290-1785110400-1785196799@create.vegas
SUMMARY:8pm/$5 Door: Las Vegues Trio
DESCRIPTION:
URL:https://create.vegas/event/hold-las-vegs-trio-52/
CATEGORIES:Rock & Punk
END:VEVENT
BEGIN:VEVENT
DTSTART;TZID=America/Los_Angeles:20260803T000000
DTEND;TZID=America/Los_Angeles:20260803T235959
DTSTAMP:20260421T105919
CREATED:20250509T171906Z
LAST-MODIFIED:20250807T173410Z
UID:10028291-1785715200-1785801599@create.vegas
SUMMARY:8pm/$5 Door: Las Vegues Trio
DESCRIPTION:
URL:https://create.vegas/event/hold-las-vegs-trio-53/
CATEGORIES:Rock & Punk
END:VEVENT
BEGIN:VEVENT
DTSTART;TZID=America/Los_Angeles:20260810T000000
DTEND;TZID=America/Los_Angeles:20260810T235959
DTSTAMP:20260421T105919
CREATED:20250509T171906Z
LAST-MODIFIED:20250807T173410Z
UID:10028292-1786320000-1786406399@create.vegas
SUMMARY:8pm/$5 Door: Las Vegues Trio
DESCRIPTION:
URL:https://create.vegas/event/hold-las-vegs-trio-54/
CATEGORIES:Rock & Punk
END:VEVENT
BEGIN:VEVENT
DTSTART;TZID=America/Los_Angeles:20260817T000000
DTEND;TZID=America/Los_Angeles:20260817T235959
DTSTAMP:20260421T105919
CREATED:20250509T171907Z
LAST-MODIFIED:20250807T173410Z
UID:10028293-1786924800-1787011199@create.vegas
SUMMARY:8pm/$5 Door: Las Vegues Trio
DESCRIPTION:
URL:https://create.vegas/event/hold-las-vegs-trio-55/
CATEGORIES:Rock & Punk
END:VEVENT
BEGIN:VEVENT
DTSTART;TZID=America/Los_Angeles:20260824T000000
DTEND;TZID=America/Los_Angeles:20260824T235959
DTSTAMP:20260421T105919
CREATED:20250509T171908Z
LAST-MODIFIED:20250807T173410Z
UID:10028294-1787529600-1787615999@create.vegas
SUMMARY:8pm/$5 Door: Las Vegues Trio
DESCRIPTION:
URL:https://create.vegas/event/hold-las-vegs-trio-56/
CATEGORIES:Rock & Punk
END:VEVENT
BEGIN:VEVENT
DTSTART;TZID=America/Los_Angeles:20260831T000000
DTEND;TZID=America/Los_Angeles:20260831T235959
DTSTAMP:20260421T105919
CREATED:20250509T171908Z
LAST-MODIFIED:20250807T173410Z
UID:10028295-1788134400-1788220799@create.vegas
SUMMARY:8pm/$5 Door: Las Vegues Trio
DESCRIPTION:
URL:https://create.vegas/event/hold-las-vegs-trio-57/
CATEGORIES:Rock & Punk
END:VEVENT
BEGIN:VEVENT
DTSTART;TZID=America/Los_Angeles:20260907T000000
DTEND;TZID=America/Los_Angeles:20260907T235959
DTSTAMP:20260421T105919
CREATED:20250509T171908Z
LAST-MODIFIED:20250807T173410Z
UID:10028296-1788739200-1788825599@create.vegas
SUMMARY:8pm/$5 Door: Las Vegues Trio
DESCRIPTION:
URL:https://create.vegas/event/hold-las-vegs-trio-58/
CATEGORIES:Rock & Punk
END:VEVENT
BEGIN:VEVENT
DTSTART;TZID=America/Los_Angeles:20260914T000000
DTEND;TZID=America/Los_Angeles:20260914T235959
DTSTAMP:20260421T105919
CREATED:20250509T171909Z
LAST-MODIFIED:20250807T173411Z
UID:10028297-1789344000-1789430399@create.vegas
SUMMARY:8pm/$5 Door: Las Vegues Trio
DESCRIPTION:
URL:https://create.vegas/event/hold-las-vegs-trio-59/
CATEGORIES:Rock & Punk
END:VEVENT
BEGIN:VEVENT
DTSTART;TZID=America/Los_Angeles:20260921T000000
DTEND;TZID=America/Los_Angeles:20260921T235959
DTSTAMP:20260421T105919
CREATED:20250509T171909Z
LAST-MODIFIED:20250807T173411Z
UID:10028298-1789948800-1790035199@create.vegas
SUMMARY:8pm/$5 Door: Las Vegues Trio
DESCRIPTION:
URL:https://create.vegas/event/hold-las-vegs-trio-60/
CATEGORIES:Rock & Punk
END:VEVENT
BEGIN:VEVENT
DTSTART;TZID=America/Los_Angeles:20260928T000000
DTEND;TZID=America/Los_Angeles:20260928T235959
DTSTAMP:20260421T105919
CREATED:20250509T171910Z
LAST-MODIFIED:20250807T173411Z
UID:10028299-1790553600-1790639999@create.vegas
SUMMARY:8pm/$5 Door: Las Vegues Trio
DESCRIPTION:
URL:https://create.vegas/event/hold-las-vegs-trio-61/
CATEGORIES:Rock & Punk
END:VEVENT
BEGIN:VEVENT
DTSTART;TZID=America/Los_Angeles:20261005T000000
DTEND;TZID=America/Los_Angeles:20261005T235959
DTSTAMP:20260421T105919
CREATED:20250509T171910Z
LAST-MODIFIED:20250807T173411Z
UID:10028300-1791158400-1791244799@create.vegas
SUMMARY:8pm/$5 Door: Las Vegues Trio
DESCRIPTION:
URL:https://create.vegas/event/hold-las-vegs-trio-62/
CATEGORIES:Rock & Punk
END:VEVENT
BEGIN:VEVENT
DTSTART;TZID=America/Los_Angeles:20261012T000000
DTEND;TZID=America/Los_Angeles:20261012T235959
DTSTAMP:20260421T105919
CREATED:20250509T171911Z
LAST-MODIFIED:20250807T173411Z
UID:10028301-1791763200-1791849599@create.vegas
SUMMARY:8pm/$5 Door: Las Vegues Trio
DESCRIPTION:
URL:https://create.vegas/event/hold-las-vegs-trio-63/
CATEGORIES:Rock & Punk
END:VEVENT
BEGIN:VEVENT
DTSTART;TZID=America/Los_Angeles:20261019T000000
DTEND;TZID=America/Los_Angeles:20261019T235959
DTSTAMP:20260421T105919
CREATED:20250509T171911Z
LAST-MODIFIED:20250807T173411Z
UID:10028302-1792368000-1792454399@create.vegas
SUMMARY:8pm/$5 Door: Las Vegues Trio
DESCRIPTION:
URL:https://create.vegas/event/hold-las-vegs-trio-64/
CATEGORIES:Rock & Punk
END:VEVENT
END:VCALENDAR