BEGIN:VCALENDAR
VERSION:2.0
PRODID:-//Create.Vegas - ECPv6.15.20//NONSGML v1.0//EN
CALSCALE:GREGORIAN
METHOD:PUBLISH
X-WR-CALNAME:Create.Vegas
X-ORIGINAL-URL:https://create.vegas
X-WR-CALDESC:Events for Create.Vegas
REFRESH-INTERVAL;VALUE=DURATION:PT1H
X-Robots-Tag:noindex
X-PUBLISHED-TTL:PT1H
BEGIN:VTIMEZONE
TZID:America/Los_Angeles
BEGIN:DAYLIGHT
TZOFFSETFROM:-0800
TZOFFSETTO:-0700
TZNAME:PDT
DTSTART:20250309T100000
END:DAYLIGHT
BEGIN:STANDARD
TZOFFSETFROM:-0700
TZOFFSETTO:-0800
TZNAME:PST
DTSTART:20251102T090000
END:STANDARD
BEGIN:DAYLIGHT
TZOFFSETFROM:-0800
TZOFFSETTO:-0700
TZNAME:PDT
DTSTART:20260308T100000
END:DAYLIGHT
BEGIN:STANDARD
TZOFFSETFROM:-0700
TZOFFSETTO:-0800
TZNAME:PST
DTSTART:20261101T090000
END:STANDARD
BEGIN:DAYLIGHT
TZOFFSETFROM:-0800
TZOFFSETTO:-0700
TZNAME:PDT
DTSTART:20270314T100000
END:DAYLIGHT
BEGIN:STANDARD
TZOFFSETFROM:-0700
TZOFFSETTO:-0800
TZNAME:PST
DTSTART:20271107T090000
END:STANDARD
END:VTIMEZONE
BEGIN:VEVENT
DTSTART;TZID=America/Los_Angeles:20260522T180000
DTEND;TZID=America/Los_Angeles:20260523T000000
DTSTAMP:20260421T140903
CREATED:20260406T024750Z
LAST-MODIFIED:20260406T024750Z
UID:10034331-1779472800-1779494400@create.vegas
SUMMARY:LADIES FIRST POOL PARTY W/ SHORDIE SHORDIE
DESCRIPTION:LADIES NIGHT\n\n\nWHAT IS LADIES FIRST?\nWe are proud to introduce our newest monthly party series\, “Ladies First.” This is a different type of dance and sing-along experience—a DJ-driven party with the DJ performing in the heart of the crowd. An event designed to truly cater to the ladies. \n🔥 Special Live Performance by Special Shordie Shordie 🔥 \nYou will be right in the center of the action. YOU are the life of the party. \nLadies — get on the guest list NOW for FREE entry before 7PM! Limited spots available\, so lock it in early and pull up in style. \nReservations 702.503.9615 \n18+ Females Welcome\n21+ To Consume Alcohol\nNo Men Under 21 Permitted\nManagement reserves the right to refuse service or entry at their discretion
URL:https://create.vegas/event/ladies-first-pool-party-w-shordie-shordie/
LOCATION:Citrus Grand Pool Deck\, 206 North 3rd Street\, Las Vegas\, NV\, 89101\, United States
CATEGORIES:Rock & Punk
ATTACH;FMTTYPE=image/jpeg:https://create.vegas/wp-content/uploads/2026/04/42e3745673c3d5a85fb7c68f96230cda.jpg
END:VEVENT
END:VCALENDAR