BEGIN:VCALENDAR
VERSION:2.0
PRODID:-//Create.Vegas - ECPv6.15.20//NONSGML v1.0//EN
CALSCALE:GREGORIAN
METHOD:PUBLISH
X-WR-CALNAME:Create.Vegas
X-ORIGINAL-URL:https://create.vegas
X-WR-CALDESC:Events for Create.Vegas
REFRESH-INTERVAL;VALUE=DURATION:PT1H
X-Robots-Tag:noindex
X-PUBLISHED-TTL:PT1H
BEGIN:VTIMEZONE
TZID:America/Los_Angeles
BEGIN:DAYLIGHT
TZOFFSETFROM:-0800
TZOFFSETTO:-0700
TZNAME:PDT
DTSTART:20250309T100000
END:DAYLIGHT
BEGIN:STANDARD
TZOFFSETFROM:-0700
TZOFFSETTO:-0800
TZNAME:PST
DTSTART:20251102T090000
END:STANDARD
BEGIN:DAYLIGHT
TZOFFSETFROM:-0800
TZOFFSETTO:-0700
TZNAME:PDT
DTSTART:20260308T100000
END:DAYLIGHT
BEGIN:STANDARD
TZOFFSETFROM:-0700
TZOFFSETTO:-0800
TZNAME:PST
DTSTART:20261101T090000
END:STANDARD
BEGIN:DAYLIGHT
TZOFFSETFROM:-0800
TZOFFSETTO:-0700
TZNAME:PDT
DTSTART:20270314T100000
END:DAYLIGHT
BEGIN:STANDARD
TZOFFSETFROM:-0700
TZOFFSETTO:-0800
TZNAME:PST
DTSTART:20271107T090000
END:STANDARD
END:VTIMEZONE
BEGIN:VEVENT
DTSTART;TZID=America/Los_Angeles:20260503T213000
DTEND;TZID=America/Los_Angeles:20260504T010000
DTSTAMP:20260421T153543
CREATED:20260313T053609Z
LAST-MODIFIED:20260417T065029Z
UID:10033751-1777843800-1777856400@create.vegas
SUMMARY:Las Vegas Club Crawl with Party Bus
DESCRIPTION:Party like a VIP at the best clubs in Vegas: Free entry\, and a party bus with free drinks!
URL:https://create.vegas/event/las-vegas-club-crawl-with-party-bus-398/
LOCATION:LA Epic Club Crawls\, Please check our website for starting location\, Las Vegas\, NV\, 89109\, United States
CATEGORIES:Food & Drink & Fun
ATTACH;FMTTYPE=image/jpeg:https://create.vegas/wp-content/uploads/2025/09/54339c18a39f77272fdd2fdb8168bc42.jpg
END:VEVENT
BEGIN:VEVENT
DTSTART;TZID=America/Los_Angeles:20260504T210000
DTEND;TZID=America/Los_Angeles:20260505T010000
DTSTAMP:20260421T153543
CREATED:20260306T052252Z
LAST-MODIFIED:20260417T065105Z
UID:10033671-1777928400-1777942800@create.vegas
SUMMARY:Las Vegas Strip Club Crawl
DESCRIPTION:Free entry & VIP transportation to the best Strip Clubs in Vegas!
URL:https://create.vegas/event/las-vegas-strip-club-crawl-51/
LOCATION:Caesars Palace\, 3570 South Las Vegas Boulevard\, Paradise\, NV\, 89109\, United States
CATEGORIES:Food & Drink & Fun
ATTACH;FMTTYPE=image/jpeg:https://create.vegas/wp-content/uploads/2026/02/a6afa8ce28b26988a3427189f0ff8ae4.jpg
END:VEVENT
BEGIN:VEVENT
DTSTART;TZID=America/Los_Angeles:20260505T113000
DTEND;TZID=America/Los_Angeles:20260505T170000
DTSTAMP:20260421T153543
CREATED:20251128T023513Z
LAST-MODIFIED:20260410T063607Z
UID:10031789-1777980600-1778000400@create.vegas
SUMMARY:Cinco de Mayo Las Vegas Pool Crawl
DESCRIPTION:Receive free entry to the best day clubs in Vegas and a party bus ride with free drinks\, this Cinco de Mayo in Las Vegas!\n\n\nParty at the best pool parties in Vegas\, with performances by some of the biggest artists in the world this Cinco de Mayo! 🔥 Receive free entry to 2 of the best day clubs in Vegas and enjoy a party bus ride with free drinks. \n \nWhat’s included in this Cinco de Mayo Pool Party: \n \n💦 Free\, express entry to all venues on the lineup \n💦 Vegas party bus ride with free drinks \n💦 Performances by some of the biggest artists and DJs in the world \n💦 Drink specials at the first venue \n💦 VIP party hosts \n💦 Photos of the event \n \nHow this Pool Party Party Bus Works: Meet your party hosts at the first venue listed on the lineup to check-in and pregame. Your hosts will lead the group to all of the venues. Your crawl will include one bar and two of the best Las Vegas pool parties! You can view the full lineup\, starting times\, and featured DJ’s on our website the week of your crawl. \n \n\n\n\n\n \nLA Epic Pool Crawl Las Vegas: Refunds are given up to 30 days prior to the event. Receive a credit in the amount you paid if you cancel at least 5 days prior to the event. \n \nDress Code: Swim attire is required for entry. Read up on dress code rules on our website. \n \nOffice: 866-843-3742 | Tuesday – Saturday \nInfo@laepicclubcrawls.com \nwww.laepicclubcrawls.com
URL:https://create.vegas/event/cinco-de-mayo-las-vegas-pool-crawl-7/
LOCATION:NV
CATEGORIES:Food & Drink & Fun
ATTACH;FMTTYPE=image/jpeg:https://create.vegas/wp-content/uploads/2025/11/180f4ef3bc2431f7ce77e3ed0879e39d.jpg
END:VEVENT
BEGIN:VEVENT
DTSTART;TZID=America/Los_Angeles:20260505T150000
DTEND;TZID=America/Los_Angeles:20260505T220000
DTSTAMP:20260421T153543
CREATED:20251121T023443Z
LAST-MODIFIED:20260417T065044Z
UID:10031301-1777993200-1778018400@create.vegas
SUMMARY:Cinco de Mayo Bar Crawl: Fremont Street
DESCRIPTION:Are you DTF? Down..to…FIESTA?!
URL:https://create.vegas/event/cinco-de-mayo-bar-crawl-fremont-street-3/
LOCATION:Fremont Street (check our website for starting location)\, Fremont Street\, Las Vegas\, NV\, 89101\, United States
CATEGORIES:Food & Drink & Fun
ATTACH;FMTTYPE=image/jpeg:https://create.vegas/wp-content/uploads/2025/02/b11d2e2012094867a9dd0ec51cf3163e.jpg
END:VEVENT
BEGIN:VEVENT
DTSTART;TZID=America/Los_Angeles:20260505T203000
DTEND;TZID=America/Los_Angeles:20260505T233000
DTSTAMP:20260421T153543
CREATED:20251212T025008Z
LAST-MODIFIED:20260417T065044Z
UID:10031969-1778013000-1778023800@create.vegas
SUMMARY:Cinco de Mayo Fremont Street Bar Crawl
DESCRIPTION:Are you DTF? Down..to…FIESTA?!\n\n\nCelebrate this Cinco de Mayo in Las Vegas with an epic Fremont Street Bar Crawl! Receive FREE express entry and amazing drink specials at some of the best bars in Downtown Las Vegas! Upgrade your ticket to enjoy a Vegas party bus with free drinks\, to an epic final venue on The Las Vegas Strip. \n \nWhat’s included in this Fremont Street Bar Crawl: \n⭐️ Zero cover charges & express entry to all venues \n⭐️ Drink Specials at all Fremont Street venues \n⭐️ Amazing Party Host(s) \n🚌 Optional Party bus add-on (with free drinks) to a final venue on The Strip \n \nHow It Works: Meet your hosts at the first venue on the lineup to check-in. Your hosts will lead the group to all the venues on the lineup. After the Fremont Street Bar Crawl\, you have the option of adding on a party bus back to the strip to a Vegas Nightclub! (When you book in\, you will have the option of selecting walking only or with party bus). You can view the full lineup\, starting times on our website the week of your crawl. \n \nThis Cinco de Mayo Weekend Fremont Street Bar Crawl brings you the ultimate night out in Downtown Las Vegas! \n \n\n\n\n\n_____________________________________________________________________________________ \nLA Epic Club Crawl Las Vegas: \nRefunds are given up to 30 days prior to the event. Receive a credit in the amount you paid if you cancel at least 3 days prior to the event. Dress code is enforced. \n \nOffice: 866- THE-EPIC or 866-843-3742 \nInfo@laepicclubcrawls.com \nhttps://laepicclubcrawls.com/las-vegas/
URL:https://create.vegas/event/cinco-de-mayo-fremont-street-bar-crawl/
LOCATION:Fremont Street Experience\, Fremont Street\, Las Vegas\, NV\, 89101\, United States
CATEGORIES:Food & Drink & Fun
ATTACH;FMTTYPE=image/jpeg:https://create.vegas/wp-content/uploads/2025/12/8b11897e8e5b133d57f81073501b6301.jpg
END:VEVENT
BEGIN:VEVENT
DTSTART;TZID=America/Los_Angeles:20260505T203000
DTEND;TZID=America/Los_Angeles:20260506T000000
DTSTAMP:20260421T153543
CREATED:20251128T023601Z
LAST-MODIFIED:20260417T065036Z
UID:10031796-1778013000-1778025600@create.vegas
SUMMARY:Fremont Street Bar Crawl
DESCRIPTION:Fremont Street Bar Crawl gets you exclusive perks at the best bars in Old Vegas.
URL:https://create.vegas/event/fremont-street-bar-crawl-305/
LOCATION:Meeting Venue TBA – Check website for details\, Fremont St\, Las Vegas\, NV\, 89101\, United States
CATEGORIES:Food & Drink & Fun
ATTACH;FMTTYPE=image/jpeg:https://create.vegas/wp-content/uploads/2025/12/6209811cb488331552d7bc6caf142c54.jpg
END:VEVENT
BEGIN:VEVENT
DTSTART;TZID=America/Los_Angeles:20260505T210000
DTEND;TZID=America/Los_Angeles:20260506T010000
DTSTAMP:20260421T153543
CREATED:20260306T052252Z
LAST-MODIFIED:20260417T065105Z
UID:10033672-1778014800-1778029200@create.vegas
SUMMARY:Las Vegas Strip Club Crawl
DESCRIPTION:Free entry & VIP transportation to the best Strip Clubs in Vegas!
URL:https://create.vegas/event/las-vegas-strip-club-crawl-52/
LOCATION:Caesars Palace\, 3570 South Las Vegas Boulevard\, Paradise\, NV\, 89109\, United States
CATEGORIES:Food & Drink & Fun
ATTACH;FMTTYPE=image/jpeg:https://create.vegas/wp-content/uploads/2026/02/a6afa8ce28b26988a3427189f0ff8ae4.jpg
END:VEVENT
BEGIN:VEVENT
DTSTART;TZID=America/Los_Angeles:20260505T213000
DTEND;TZID=America/Los_Angeles:20260506T010000
DTSTAMP:20260421T153543
CREATED:20260313T053609Z
LAST-MODIFIED:20260417T065029Z
UID:10033752-1778016600-1778029200@create.vegas
SUMMARY:Las Vegas Club Crawl with Party Bus
DESCRIPTION:Party like a VIP at the best clubs in Vegas: Free entry\, and a party bus with free drinks!
URL:https://create.vegas/event/las-vegas-club-crawl-with-party-bus-399/
LOCATION:LA Epic Club Crawls\, Please check our website for starting location\, Las Vegas\, NV\, 89109\, United States
CATEGORIES:Food & Drink & Fun
ATTACH;FMTTYPE=image/jpeg:https://create.vegas/wp-content/uploads/2025/09/54339c18a39f77272fdd2fdb8168bc42.jpg
END:VEVENT
BEGIN:VEVENT
DTSTART;TZID=America/Los_Angeles:20260505T213000
DTEND;TZID=America/Los_Angeles:20260506T020000
DTSTAMP:20260421T153543
CREATED:20251114T023510Z
LAST-MODIFIED:20260417T065045Z
UID:10031199-1778016600-1778032800@create.vegas
SUMMARY:Cinco de Mayo Las Vegas Club Crawl
DESCRIPTION:This Las Vegas Club Crawl is Las Vegas’s premier party bus tour\, taking you to the best clubs in Vegas this Cinco de Mayo Weekend!
URL:https://create.vegas/event/cinco-de-mayo-las-vegas-club-crawl-2/
LOCATION:Las Vegas Strip\, TBA\, Las Vegas\, NV\, 89109\, United States
CATEGORIES:Food & Drink & Fun
ATTACH;FMTTYPE=image/jpeg:https://create.vegas/wp-content/uploads/2025/02/a834be178e746d81eec238084fbb4b1f.jpg
END:VEVENT
BEGIN:VEVENT
DTSTART;TZID=America/Los_Angeles:20260506T210000
DTEND;TZID=America/Los_Angeles:20260507T010000
DTSTAMP:20260421T153543
CREATED:20260306T052252Z
LAST-MODIFIED:20260417T065105Z
UID:10033673-1778101200-1778115600@create.vegas
SUMMARY:Las Vegas Strip Club Crawl
DESCRIPTION:Free entry & VIP transportation to the best Strip Clubs in Vegas!
URL:https://create.vegas/event/las-vegas-strip-club-crawl-53/
LOCATION:Caesars Palace\, 3570 South Las Vegas Boulevard\, Paradise\, NV\, 89109\, United States
CATEGORIES:Food & Drink & Fun
ATTACH;FMTTYPE=image/jpeg:https://create.vegas/wp-content/uploads/2026/02/a6afa8ce28b26988a3427189f0ff8ae4.jpg
END:VEVENT
BEGIN:VEVENT
DTSTART;TZID=America/Los_Angeles:20260506T213000
DTEND;TZID=America/Los_Angeles:20260507T010000
DTSTAMP:20260421T153543
CREATED:20260313T053610Z
LAST-MODIFIED:20260417T065030Z
UID:10033753-1778103000-1778115600@create.vegas
SUMMARY:Las Vegas Club Crawl with Party Bus
DESCRIPTION:Party like a VIP at the best clubs in Vegas: Free entry\, and a party bus with free drinks!
URL:https://create.vegas/event/las-vegas-club-crawl-with-party-bus-400/
LOCATION:LA Epic Club Crawls\, Please check our website for starting location\, Las Vegas\, NV\, 89109\, United States
CATEGORIES:Food & Drink & Fun
ATTACH;FMTTYPE=image/jpeg:https://create.vegas/wp-content/uploads/2025/09/54339c18a39f77272fdd2fdb8168bc42.jpg
END:VEVENT
BEGIN:VEVENT
DTSTART;TZID=America/Los_Angeles:20260507T210000
DTEND;TZID=America/Los_Angeles:20260508T010000
DTSTAMP:20260421T153543
CREATED:20260306T052253Z
LAST-MODIFIED:20260417T065105Z
UID:10033674-1778187600-1778202000@create.vegas
SUMMARY:Las Vegas Strip Club Crawl
DESCRIPTION:Free entry & VIP transportation to the best Strip Clubs in Vegas!
URL:https://create.vegas/event/las-vegas-strip-club-crawl-54/
LOCATION:Caesars Palace\, 3570 South Las Vegas Boulevard\, Paradise\, NV\, 89109\, United States
CATEGORIES:Food & Drink & Fun
ATTACH;FMTTYPE=image/jpeg:https://create.vegas/wp-content/uploads/2026/02/a6afa8ce28b26988a3427189f0ff8ae4.jpg
END:VEVENT
BEGIN:VEVENT
DTSTART;TZID=America/Los_Angeles:20260507T213000
DTEND;TZID=America/Los_Angeles:20260508T010000
DTSTAMP:20260421T153543
CREATED:20260313T053610Z
LAST-MODIFIED:20260417T065030Z
UID:10033754-1778189400-1778202000@create.vegas
SUMMARY:Las Vegas Club Crawl with Party Bus
DESCRIPTION:Party like a VIP at the best clubs in Vegas: Free entry\, and a party bus with free drinks!
URL:https://create.vegas/event/las-vegas-club-crawl-with-party-bus-401/
LOCATION:LA Epic Club Crawls\, Please check our website for starting location\, Las Vegas\, NV\, 89109\, United States
CATEGORIES:Food & Drink & Fun
ATTACH;FMTTYPE=image/jpeg:https://create.vegas/wp-content/uploads/2025/09/54339c18a39f77272fdd2fdb8168bc42.jpg
END:VEVENT
BEGIN:VEVENT
DTSTART;TZID=America/Los_Angeles:20260508T113000
DTEND;TZID=America/Los_Angeles:20260508T170000
DTSTAMP:20260421T153543
CREATED:20251107T023311Z
LAST-MODIFIED:20260417T065053Z
UID:10031061-1778239800-1778259600@create.vegas
SUMMARY:Las Vegas Pool Crawl
DESCRIPTION:Party at the best pool parties in Las Vegas this summer!
URL:https://create.vegas/event/las-vegas-pool-crawl-204/
LOCATION:Las Vegas Strip\, TBA\, Las Vegas\, NV\, 89109\, United States
CATEGORIES:Food & Drink & Fun
ATTACH;FMTTYPE=image/jpeg:https://create.vegas/wp-content/uploads/2025/09/e51a000afcf0608166fb2e5b19d6d060.jpg
END:VEVENT
BEGIN:VEVENT
DTSTART;TZID=America/Los_Angeles:20260508T203000
DTEND;TZID=America/Los_Angeles:20260509T003000
DTSTAMP:20260421T153543
CREATED:20260102T032205Z
LAST-MODIFIED:20260417T065036Z
UID:10032466-1778272200-1778286600@create.vegas
SUMMARY:Fremont Street Bar Crawl
DESCRIPTION:Fremont Street Bar Crawl gets you exclusive perks at the best bars in Old Vegas.
URL:https://create.vegas/event/fremont-street-bar-crawl-353/
LOCATION:Meeting Venue TBA – Check website for details\, Fremont St\, Las Vegas\, NV\, 89101\, United States
CATEGORIES:Food & Drink & Fun
ATTACH;FMTTYPE=image/jpeg:https://create.vegas/wp-content/uploads/2025/12/6209811cb488331552d7bc6caf142c54.jpg
END:VEVENT
BEGIN:VEVENT
DTSTART;TZID=America/Los_Angeles:20260508T210000
DTEND;TZID=America/Los_Angeles:20260509T010000
DTSTAMP:20260421T153543
CREATED:20260306T052253Z
LAST-MODIFIED:20260417T065106Z
UID:10033675-1778274000-1778288400@create.vegas
SUMMARY:Las Vegas Strip Club Crawl
DESCRIPTION:Free entry & VIP transportation to the best Strip Clubs in Vegas!
URL:https://create.vegas/event/las-vegas-strip-club-crawl-55/
LOCATION:Caesars Palace\, 3570 South Las Vegas Boulevard\, Paradise\, NV\, 89109\, United States
CATEGORIES:Food & Drink & Fun
ATTACH;FMTTYPE=image/jpeg:https://create.vegas/wp-content/uploads/2026/02/a6afa8ce28b26988a3427189f0ff8ae4.jpg
END:VEVENT
BEGIN:VEVENT
DTSTART;TZID=America/Los_Angeles:20260508T213000
DTEND;TZID=America/Los_Angeles:20260509T010000
DTSTAMP:20260421T153543
CREATED:20260313T053610Z
LAST-MODIFIED:20260417T065030Z
UID:10033755-1778275800-1778288400@create.vegas
SUMMARY:Las Vegas Club Crawl with Party Bus
DESCRIPTION:Party like a VIP at the best clubs in Vegas: Free entry\, and a party bus with free drinks!
URL:https://create.vegas/event/las-vegas-club-crawl-with-party-bus-402/
LOCATION:LA Epic Club Crawls\, Please check our website for starting location\, Las Vegas\, NV\, 89109\, United States
CATEGORIES:Food & Drink & Fun
ATTACH;FMTTYPE=image/jpeg:https://create.vegas/wp-content/uploads/2025/09/54339c18a39f77272fdd2fdb8168bc42.jpg
END:VEVENT
BEGIN:VEVENT
DTSTART;TZID=America/Los_Angeles:20260509T113000
DTEND;TZID=America/Los_Angeles:20260509T170000
DTSTAMP:20260421T153543
CREATED:20251107T023311Z
LAST-MODIFIED:20260417T065053Z
UID:10031062-1778326200-1778346000@create.vegas
SUMMARY:Las Vegas Pool Crawl
DESCRIPTION:Party at the best pool parties in Las Vegas this summer!
URL:https://create.vegas/event/las-vegas-pool-crawl-205/
LOCATION:Las Vegas Strip\, TBA\, Las Vegas\, NV\, 89109\, United States
CATEGORIES:Food & Drink & Fun
ATTACH;FMTTYPE=image/jpeg:https://create.vegas/wp-content/uploads/2025/09/e51a000afcf0608166fb2e5b19d6d060.jpg
END:VEVENT
BEGIN:VEVENT
DTSTART;TZID=America/Los_Angeles:20260509T140000
DTEND;TZID=America/Los_Angeles:20260509T190000
DTSTAMP:20260421T153543
CREATED:20260102T032215Z
LAST-MODIFIED:20260417T065041Z
UID:10032485-1778335200-1778353200@create.vegas
SUMMARY:Las Vegas Dispensary Tour
DESCRIPTION:Learning about the thriving green industry in Las Vegas\, when we take you to some of the best dispensaries in Vegas!
URL:https://create.vegas/event/las-vegas-dispensary-tour-the-1-green-tour-149/
LOCATION:Las Vegas Strip – Check website for check-in location\, Las Vegas Strip\, Las Vegas\, NV\, 89109\, United States
CATEGORIES:Food & Drink & Fun
ATTACH;FMTTYPE=image/jpeg:https://create.vegas/wp-content/uploads/2023/09/51e0ee772a209d886bb616508a11de8e.jpg
END:VEVENT
BEGIN:VEVENT
DTSTART;TZID=America/Los_Angeles:20260509T203000
DTEND;TZID=America/Los_Angeles:20260510T003000
DTSTAMP:20260421T153543
CREATED:20260102T032205Z
LAST-MODIFIED:20260417T065036Z
UID:10032467-1778358600-1778373000@create.vegas
SUMMARY:Fremont Street Bar Crawl
DESCRIPTION:Fremont Street Bar Crawl gets you exclusive perks at the best bars in Old Vegas.
URL:https://create.vegas/event/fremont-street-bar-crawl-354/
LOCATION:Meeting Venue TBA – Check website for details\, Fremont St\, Las Vegas\, NV\, 89101\, United States
CATEGORIES:Food & Drink & Fun
ATTACH;FMTTYPE=image/jpeg:https://create.vegas/wp-content/uploads/2025/12/6209811cb488331552d7bc6caf142c54.jpg
END:VEVENT
BEGIN:VEVENT
DTSTART;TZID=America/Los_Angeles:20260509T210000
DTEND;TZID=America/Los_Angeles:20260510T010000
DTSTAMP:20260421T153543
CREATED:20260313T053719Z
LAST-MODIFIED:20260417T065106Z
UID:10033763-1778360400-1778374800@create.vegas
SUMMARY:Las Vegas Strip Club Crawl
DESCRIPTION:Free entry & VIP transportation to the best Strip Clubs in Vegas!
URL:https://create.vegas/event/las-vegas-strip-club-crawl-56/
LOCATION:Caesars Palace\, 3570 South Las Vegas Boulevard\, Paradise\, NV\, 89109\, United States
CATEGORIES:Food & Drink & Fun
ATTACH;FMTTYPE=image/jpeg:https://create.vegas/wp-content/uploads/2026/02/a6afa8ce28b26988a3427189f0ff8ae4.jpg
END:VEVENT
BEGIN:VEVENT
DTSTART;TZID=America/Los_Angeles:20260509T213000
DTEND;TZID=America/Los_Angeles:20260510T010000
DTSTAMP:20260421T153543
CREATED:20260313T053611Z
LAST-MODIFIED:20260417T065030Z
UID:10033756-1778362200-1778374800@create.vegas
SUMMARY:Las Vegas Club Crawl with Party Bus
DESCRIPTION:Party like a VIP at the best clubs in Vegas: Free entry\, and a party bus with free drinks!
URL:https://create.vegas/event/las-vegas-club-crawl-with-party-bus-403/
LOCATION:LA Epic Club Crawls\, Please check our website for starting location\, Las Vegas\, NV\, 89109\, United States
CATEGORIES:Food & Drink & Fun
ATTACH;FMTTYPE=image/jpeg:https://create.vegas/wp-content/uploads/2025/09/54339c18a39f77272fdd2fdb8168bc42.jpg
END:VEVENT
BEGIN:VEVENT
DTSTART;TZID=America/Los_Angeles:20260510T113000
DTEND;TZID=America/Los_Angeles:20260510T170000
DTSTAMP:20260421T153543
CREATED:20251107T023312Z
LAST-MODIFIED:20260417T065053Z
UID:10031063-1778412600-1778432400@create.vegas
SUMMARY:Las Vegas Pool Crawl
DESCRIPTION:Party at the best pool parties in Las Vegas this summer!
URL:https://create.vegas/event/las-vegas-pool-crawl-206/
LOCATION:Las Vegas Strip\, TBA\, Las Vegas\, NV\, 89109\, United States
CATEGORIES:Food & Drink & Fun
ATTACH;FMTTYPE=image/jpeg:https://create.vegas/wp-content/uploads/2025/09/e51a000afcf0608166fb2e5b19d6d060.jpg
END:VEVENT
BEGIN:VEVENT
DTSTART;TZID=America/Los_Angeles:20260510T203000
DTEND;TZID=America/Los_Angeles:20260511T003000
DTSTAMP:20260421T153543
CREATED:20260109T033649Z
LAST-MODIFIED:20260417T065036Z
UID:10032542-1778445000-1778459400@create.vegas
SUMMARY:Fremont Street Bar Crawl
DESCRIPTION:Fremont Street Bar Crawl gets you exclusive perks at the best bars in Old Vegas.
URL:https://create.vegas/event/fremont-street-bar-crawl-355/
LOCATION:Meeting Venue TBA – Check website for details\, Fremont St\, Las Vegas\, NV\, 89101\, United States
CATEGORIES:Food & Drink & Fun
ATTACH;FMTTYPE=image/jpeg:https://create.vegas/wp-content/uploads/2025/12/6209811cb488331552d7bc6caf142c54.jpg
END:VEVENT
BEGIN:VEVENT
DTSTART;TZID=America/Los_Angeles:20260510T210000
DTEND;TZID=America/Los_Angeles:20260511T010000
DTSTAMP:20260421T153543
CREATED:20260313T053720Z
LAST-MODIFIED:20260417T065106Z
UID:10033764-1778446800-1778461200@create.vegas
SUMMARY:Las Vegas Strip Club Crawl
DESCRIPTION:Free entry & VIP transportation to the best Strip Clubs in Vegas!
URL:https://create.vegas/event/las-vegas-strip-club-crawl-57/
LOCATION:Caesars Palace\, 3570 South Las Vegas Boulevard\, Paradise\, NV\, 89109\, United States
CATEGORIES:Food & Drink & Fun
ATTACH;FMTTYPE=image/jpeg:https://create.vegas/wp-content/uploads/2026/02/a6afa8ce28b26988a3427189f0ff8ae4.jpg
END:VEVENT
BEGIN:VEVENT
DTSTART;TZID=America/Los_Angeles:20260510T213000
DTEND;TZID=America/Los_Angeles:20260511T010000
DTSTAMP:20260421T153543
CREATED:20260320T055200Z
LAST-MODIFIED:20260417T065030Z
UID:10033811-1778448600-1778461200@create.vegas
SUMMARY:Las Vegas Club Crawl with Party Bus
DESCRIPTION:Party like a VIP at the best clubs in Vegas: Free entry\, and a party bus with free drinks!
URL:https://create.vegas/event/las-vegas-club-crawl-with-party-bus-404/
LOCATION:LA Epic Club Crawls\, Please check our website for starting location\, Las Vegas\, NV\, 89109\, United States
CATEGORIES:Food & Drink & Fun
ATTACH;FMTTYPE=image/jpeg:https://create.vegas/wp-content/uploads/2025/09/54339c18a39f77272fdd2fdb8168bc42.jpg
END:VEVENT
BEGIN:VEVENT
DTSTART;TZID=America/Los_Angeles:20260512T213000
DTEND;TZID=America/Los_Angeles:20260513T010000
DTSTAMP:20260421T153543
CREATED:20260320T055200Z
LAST-MODIFIED:20260417T065030Z
UID:10033812-1778621400-1778634000@create.vegas
SUMMARY:Las Vegas Club Crawl with Party Bus
DESCRIPTION:Party like a VIP at the best clubs in Vegas: Free entry\, and a party bus with free drinks!
URL:https://create.vegas/event/las-vegas-club-crawl-with-party-bus-405/
LOCATION:LA Epic Club Crawls\, Please check our website for starting location\, Las Vegas\, NV\, 89109\, United States
CATEGORIES:Food & Drink & Fun
ATTACH;FMTTYPE=image/jpeg:https://create.vegas/wp-content/uploads/2025/09/54339c18a39f77272fdd2fdb8168bc42.jpg
END:VEVENT
BEGIN:VEVENT
DTSTART;TZID=America/Los_Angeles:20260513T210000
DTEND;TZID=America/Los_Angeles:20260514T010000
DTSTAMP:20260421T153543
CREATED:20260313T053720Z
LAST-MODIFIED:20260417T065106Z
UID:10033765-1778706000-1778720400@create.vegas
SUMMARY:Las Vegas Strip Club Crawl
DESCRIPTION:Free entry & VIP transportation to the best Strip Clubs in Vegas!
URL:https://create.vegas/event/las-vegas-strip-club-crawl-58/
LOCATION:Caesars Palace\, 3570 South Las Vegas Boulevard\, Paradise\, NV\, 89109\, United States
CATEGORIES:Food & Drink & Fun
ATTACH;FMTTYPE=image/jpeg:https://create.vegas/wp-content/uploads/2026/02/a6afa8ce28b26988a3427189f0ff8ae4.jpg
END:VEVENT
BEGIN:VEVENT
DTSTART;TZID=America/Los_Angeles:20260513T213000
DTEND;TZID=America/Los_Angeles:20260514T010000
DTSTAMP:20260421T153543
CREATED:20260320T055200Z
LAST-MODIFIED:20260417T065030Z
UID:10033813-1778707800-1778720400@create.vegas
SUMMARY:Las Vegas Club Crawl with Party Bus
DESCRIPTION:Party like a VIP at the best clubs in Vegas: Free entry\, and a party bus with free drinks!
URL:https://create.vegas/event/las-vegas-club-crawl-with-party-bus-406/
LOCATION:LA Epic Club Crawls\, Please check our website for starting location\, Las Vegas\, NV\, 89109\, United States
CATEGORIES:Food & Drink & Fun
ATTACH;FMTTYPE=image/jpeg:https://create.vegas/wp-content/uploads/2025/09/54339c18a39f77272fdd2fdb8168bc42.jpg
END:VEVENT
BEGIN:VEVENT
DTSTART;TZID=America/Los_Angeles:20260514T210000
DTEND;TZID=America/Los_Angeles:20260515T010000
DTSTAMP:20260421T153543
CREATED:20260313T053720Z
LAST-MODIFIED:20260417T065107Z
UID:10033766-1778792400-1778806800@create.vegas
SUMMARY:Las Vegas Strip Club Crawl
DESCRIPTION:Free entry & VIP transportation to the best Strip Clubs in Vegas!
URL:https://create.vegas/event/las-vegas-strip-club-crawl-59/
LOCATION:Caesars Palace\, 3570 South Las Vegas Boulevard\, Paradise\, NV\, 89109\, United States
CATEGORIES:Food & Drink & Fun
ATTACH;FMTTYPE=image/jpeg:https://create.vegas/wp-content/uploads/2026/02/a6afa8ce28b26988a3427189f0ff8ae4.jpg
END:VEVENT
END:VCALENDAR