BEGIN:VCALENDAR
VERSION:2.0
PRODID:-//Create.Vegas - ECPv6.15.20//NONSGML v1.0//EN
CALSCALE:GREGORIAN
METHOD:PUBLISH
X-WR-CALNAME:Create.Vegas
X-ORIGINAL-URL:https://create.vegas
X-WR-CALDESC:Events for Create.Vegas
REFRESH-INTERVAL;VALUE=DURATION:PT1H
X-Robots-Tag:noindex
X-PUBLISHED-TTL:PT1H
BEGIN:VTIMEZONE
TZID:America/Los_Angeles
BEGIN:DAYLIGHT
TZOFFSETFROM:-0800
TZOFFSETTO:-0700
TZNAME:PDT
DTSTART:20250309T100000
END:DAYLIGHT
BEGIN:STANDARD
TZOFFSETFROM:-0700
TZOFFSETTO:-0800
TZNAME:PST
DTSTART:20251102T090000
END:STANDARD
BEGIN:DAYLIGHT
TZOFFSETFROM:-0800
TZOFFSETTO:-0700
TZNAME:PDT
DTSTART:20260308T100000
END:DAYLIGHT
BEGIN:STANDARD
TZOFFSETFROM:-0700
TZOFFSETTO:-0800
TZNAME:PST
DTSTART:20261101T090000
END:STANDARD
BEGIN:DAYLIGHT
TZOFFSETFROM:-0800
TZOFFSETTO:-0700
TZNAME:PDT
DTSTART:20270314T100000
END:DAYLIGHT
BEGIN:STANDARD
TZOFFSETFROM:-0700
TZOFFSETTO:-0800
TZNAME:PST
DTSTART:20271107T090000
END:STANDARD
END:VTIMEZONE
BEGIN:VEVENT
DTSTART;TZID=America/Los_Angeles:20260426T203000
DTEND;TZID=America/Los_Angeles:20260427T003000
DTSTAMP:20260421T122108
CREATED:20251219T025029Z
LAST-MODIFIED:20260417T065035Z
UID:10032168-1777235400-1777249800@create.vegas
SUMMARY:Fremont Street Bar Crawl
DESCRIPTION:Fremont Street Bar Crawl gets you exclusive perks at the best bars in Old Vegas.
URL:https://create.vegas/event/fremont-street-bar-crawl-349/
LOCATION:Meeting Venue TBA – Check website for details\, Fremont St\, Las Vegas\, NV\, 89101\, United States
CATEGORIES:Food & Drink & Fun
ATTACH;FMTTYPE=image/jpeg:https://create.vegas/wp-content/uploads/2025/12/6209811cb488331552d7bc6caf142c54.jpg
END:VEVENT
BEGIN:VEVENT
DTSTART;TZID=America/Los_Angeles:20260426T210000
DTEND;TZID=America/Los_Angeles:20260427T010000
DTSTAMP:20260421T122108
CREATED:20260227T050814Z
LAST-MODIFIED:20260417T065103Z
UID:10033575-1777237200-1777251600@create.vegas
SUMMARY:Las Vegas Strip Club Crawl
DESCRIPTION:Free entry & VIP transportation to the best Strip Clubs in Vegas!
URL:https://create.vegas/event/las-vegas-strip-club-crawl-45/
LOCATION:Caesars Palace\, 3570 South Las Vegas Boulevard\, Paradise\, NV\, 89109\, United States
CATEGORIES:Food & Drink & Fun
ATTACH;FMTTYPE=image/jpeg:https://create.vegas/wp-content/uploads/2026/02/a6afa8ce28b26988a3427189f0ff8ae4.jpg
END:VEVENT
BEGIN:VEVENT
DTSTART;TZID=America/Los_Angeles:20260426T213000
DTEND;TZID=America/Los_Angeles:20260427T010000
DTSTAMP:20260421T122108
CREATED:20260306T052115Z
LAST-MODIFIED:20260417T065029Z
UID:10033659-1777239000-1777251600@create.vegas
SUMMARY:Las Vegas Club Crawl with Party Bus
DESCRIPTION:Party like a VIP at the best clubs in Vegas: Free entry\, and a party bus with free drinks!
URL:https://create.vegas/event/las-vegas-club-crawl-with-party-bus-392/
LOCATION:LA Epic Club Crawls\, Please check our website for starting location\, Las Vegas\, NV\, 89109\, United States
CATEGORIES:Food & Drink & Fun
ATTACH;FMTTYPE=image/jpeg:https://create.vegas/wp-content/uploads/2025/09/54339c18a39f77272fdd2fdb8168bc42.jpg
END:VEVENT
END:VCALENDAR