BEGIN:VCALENDAR
VERSION:2.0
PRODID:-//Create.Vegas - ECPv6.15.20//NONSGML v1.0//EN
CALSCALE:GREGORIAN
METHOD:PUBLISH
X-WR-CALNAME:Create.Vegas
X-ORIGINAL-URL:https://create.vegas
X-WR-CALDESC:Events for Create.Vegas
REFRESH-INTERVAL;VALUE=DURATION:PT1H
X-Robots-Tag:noindex
X-PUBLISHED-TTL:PT1H
BEGIN:VTIMEZONE
TZID:America/Los_Angeles
BEGIN:DAYLIGHT
TZOFFSETFROM:-0800
TZOFFSETTO:-0700
TZNAME:PDT
DTSTART:20250309T100000
END:DAYLIGHT
BEGIN:STANDARD
TZOFFSETFROM:-0700
TZOFFSETTO:-0800
TZNAME:PST
DTSTART:20251102T090000
END:STANDARD
BEGIN:DAYLIGHT
TZOFFSETFROM:-0800
TZOFFSETTO:-0700
TZNAME:PDT
DTSTART:20260308T100000
END:DAYLIGHT
BEGIN:STANDARD
TZOFFSETFROM:-0700
TZOFFSETTO:-0800
TZNAME:PST
DTSTART:20261101T090000
END:STANDARD
BEGIN:DAYLIGHT
TZOFFSETFROM:-0800
TZOFFSETTO:-0700
TZNAME:PDT
DTSTART:20270314T100000
END:DAYLIGHT
BEGIN:STANDARD
TZOFFSETFROM:-0700
TZOFFSETTO:-0800
TZNAME:PST
DTSTART:20271107T090000
END:STANDARD
END:VTIMEZONE
BEGIN:VEVENT
DTSTART;TZID=America/Los_Angeles:20260425T130000
DTEND;TZID=America/Los_Angeles:20260425T170000
DTSTAMP:20260422T045520
CREATED:20260401T224749Z
LAST-MODIFIED:20260415T224751Z
UID:10034255-1777122000-1777136400@create.vegas
SUMMARY:Learn to Wire-Wrap a Stone Cabochon
DESCRIPTION:Learn to Wire-Wrap a Stone Cabochon\nSaturday\, April 25\, 2026 | 1:00–5:00 PM\nCity Lights Art Gallery \n\n\nDiscover the art of wire-wrapping and create your own beautiful stone cabochon pendant! \nThis beginner-level class is perfect for anyone curious about jewelry making — no experience working with wire is necessary. You’ll learn foundational techniques for wrapping a stone securely while designing a unique piece you’ll be proud to wear or gift. \n Bring a smile and prepare to have fun!\n Great for beginners\n Hands-on instruction in a relaxed\, creative setting \n Location: City Lights Art Gallery\n Contact Fern directly with questions or to register.\n(See flyer for additional details.) \nSpots are limited\, so be sure to reserve yours soon!
URL:https://create.vegas/event/learn-to-wire-wrap-a-stone-cabochon/
LOCATION:City Lights Art Gallery\, 3 East Army Street\, Henderson\, NV\, 89015\, United States
CATEGORIES:Class,Event,Featured Artist,Fun,Gallery,Newsletter,Website Update
ATTACH;FMTTYPE=image/png:https://create.vegas/wp-content/uploads/2026/04/Wire-Wrap-with-Fern-042526-Stone-Cabochon-022625-fg-jcmiI5.png
ORGANIZER;CN="City Lights Art Gallery":MAILTO:CLAG.Gallery@gmail.com
END:VEVENT
END:VCALENDAR