BEGIN:VCALENDAR
VERSION:2.0
PRODID:-//Create.Vegas - ECPv6.15.20//NONSGML v1.0//EN
CALSCALE:GREGORIAN
METHOD:PUBLISH
X-WR-CALNAME:Create.Vegas
X-ORIGINAL-URL:https://create.vegas
X-WR-CALDESC:Events for Create.Vegas
REFRESH-INTERVAL;VALUE=DURATION:PT1H
X-Robots-Tag:noindex
X-PUBLISHED-TTL:PT1H
BEGIN:VTIMEZONE
TZID:America/Los_Angeles
BEGIN:DAYLIGHT
TZOFFSETFROM:-0800
TZOFFSETTO:-0700
TZNAME:PDT
DTSTART:20250309T100000
END:DAYLIGHT
BEGIN:STANDARD
TZOFFSETFROM:-0700
TZOFFSETTO:-0800
TZNAME:PST
DTSTART:20251102T090000
END:STANDARD
BEGIN:DAYLIGHT
TZOFFSETFROM:-0800
TZOFFSETTO:-0700
TZNAME:PDT
DTSTART:20260308T100000
END:DAYLIGHT
BEGIN:STANDARD
TZOFFSETFROM:-0700
TZOFFSETTO:-0800
TZNAME:PST
DTSTART:20261101T090000
END:STANDARD
BEGIN:DAYLIGHT
TZOFFSETFROM:-0800
TZOFFSETTO:-0700
TZNAME:PDT
DTSTART:20270314T100000
END:DAYLIGHT
BEGIN:STANDARD
TZOFFSETFROM:-0700
TZOFFSETTO:-0800
TZNAME:PST
DTSTART:20271107T090000
END:STANDARD
END:VTIMEZONE
BEGIN:VEVENT
DTSTART;TZID=America/Los_Angeles:20260329T100000
DTEND;TZID=America/Los_Angeles:20260329T160000
DTSTAMP:20260422T065754
CREATED:20260124T171954Z
LAST-MODIFIED:20260325T173323Z
UID:10032674-1774778400-1774800000@create.vegas
SUMMARY:Craft Festival at Tivoli
DESCRIPTION:LV Craft Shows®️ presents the Craft Festival at Tivoli\, a monthly shopping experience that supports local and growing businesses.\n\n\nIt’s SUNDAY FUNDAY family time at Tivoli Village Las Vegas! The Easter Bunny will be there from 11am-3 pm. Easter egg hunt 12:30 pm & 2:30 pm. The first hunt is for up to 4 years old and the second is for 5-10 years old. \n💕 Outdoor event🐾 Dogs welcome 🥘 Delicious food & dessert trucks!!🎁 Artists with original crafts\, handcrafted & handmade items\, cottage foods\, vintage\, art and other unique gifts. \nCome join us! CRAFT FESTIVAL at Tivoli! THE Place to BE!! \nBring your friends\, family\, and dogs . Free admission and free covered parking in a two level garage. \nHeld Rain or Shine! \nPLEASE NOTE: All Vendor applications are processed via our Vendor portal at LVCraftShows.com.
URL:https://create.vegas/event/craft-festival-at-tivoli-12/
LOCATION:Tivoli Village Las Vegas\, 400 South Rampart Blvd\, Las Vegas\, NV\, 89145\, United States
CATEGORIES:Fairs & Festivals
ATTACH;FMTTYPE=image/jpeg:https://create.vegas/wp-content/uploads/2026/01/07125bdc4e3c55845d9bb9e2f003bbda.jpg
END:VEVENT
END:VCALENDAR