BEGIN:VCALENDAR
VERSION:2.0
PRODID:-//Create.Vegas - ECPv6.15.20//NONSGML v1.0//EN
CALSCALE:GREGORIAN
METHOD:PUBLISH
X-ORIGINAL-URL:https://create.vegas
X-WR-CALDESC:Events for Create.Vegas
REFRESH-INTERVAL;VALUE=DURATION:PT1H
X-Robots-Tag:noindex
X-PUBLISHED-TTL:PT1H
BEGIN:VTIMEZONE
TZID:America/Los_Angeles
BEGIN:DAYLIGHT
TZOFFSETFROM:-0800
TZOFFSETTO:-0700
TZNAME:PDT
DTSTART:20250309T100000
END:DAYLIGHT
BEGIN:STANDARD
TZOFFSETFROM:-0700
TZOFFSETTO:-0800
TZNAME:PST
DTSTART:20251102T090000
END:STANDARD
BEGIN:DAYLIGHT
TZOFFSETFROM:-0800
TZOFFSETTO:-0700
TZNAME:PDT
DTSTART:20260308T100000
END:DAYLIGHT
BEGIN:STANDARD
TZOFFSETFROM:-0700
TZOFFSETTO:-0800
TZNAME:PST
DTSTART:20261101T090000
END:STANDARD
BEGIN:DAYLIGHT
TZOFFSETFROM:-0800
TZOFFSETTO:-0700
TZNAME:PDT
DTSTART:20270314T100000
END:DAYLIGHT
BEGIN:STANDARD
TZOFFSETFROM:-0700
TZOFFSETTO:-0800
TZNAME:PST
DTSTART:20271107T090000
END:STANDARD
END:VTIMEZONE
BEGIN:VEVENT
DTSTART;TZID=America/Los_Angeles:20260705T203000
DTEND;TZID=America/Los_Angeles:20260706T003000
DTSTAMP:20260422T190550
CREATED:20251226T030646Z
LAST-MODIFIED:20260417T065048Z
UID:10032226-1783283400-1783297800@create.vegas
SUMMARY:4th of July Fremont Street Bar Crawl
DESCRIPTION:Party at the best Downtown Las Vegas bars with this Fourth of July in Vegas!
URL:https://create.vegas/event/4th-of-july-fremont-street-bar-crawl-5/
LOCATION:Fremont Street  (check our website for starting location)\, Fremont Street\, Las Vegas\, NV\, 89101\, United States
CATEGORIES:Food & Drink & Fun
ATTACH;FMTTYPE=image/jpeg:https://create.vegas/wp-content/uploads/2025/12/fb7e3efa359a69d253614027c5b0361c.jpg
END:VEVENT
BEGIN:VEVENT
DTSTART;TZID=America/Los_Angeles:20260705T203000
DTEND;TZID=America/Los_Angeles:20260706T003000
DTSTAMP:20260422T190550
CREATED:20260320T055215Z
LAST-MODIFIED:20260417T065039Z
UID:10033821-1783283400-1783297800@create.vegas
SUMMARY:Fremont Street Bar Crawl
DESCRIPTION:Fremont Street Bar Crawl gets you exclusive perks at the best bars in Old Vegas.
URL:https://create.vegas/event/fremont-street-bar-crawl-379/
LOCATION:Meeting Venue TBA – Check website for details\, Fremont St\, Las Vegas\, NV\, 89101\, United States
CATEGORIES:Food & Drink & Fun
ATTACH;FMTTYPE=image/jpeg:https://create.vegas/wp-content/uploads/2025/12/6209811cb488331552d7bc6caf142c54.jpg
END:VEVENT
BEGIN:VEVENT
DTSTART;TZID=America/Los_Angeles:20260705T213000
DTEND;TZID=America/Los_Angeles:20260706T010000
DTSTAMP:20260422T190550
CREATED:20251226T030621Z
LAST-MODIFIED:20260417T065048Z
UID:10032222-1783287000-1783299600@create.vegas
SUMMARY:4th of July Las Vegas Club Crawl
DESCRIPTION:This Las Vegas Club Crawl is Las Vegas’s premier party bus tour\, taking you to the best clubs in Vegas this 4th of July Weekend.
URL:https://create.vegas/event/4th-of-july-las-vegas-club-crawl-9/
LOCATION:NV
CATEGORIES:Food & Drink & Fun
ATTACH;FMTTYPE=image/jpeg:https://create.vegas/wp-content/uploads/2025/12/8923e57fb305b7c0fbb5bcbb2c941ae0.jpg
END:VEVENT
BEGIN:VEVENT
DTSTART;TZID=America/Los_Angeles:20260706T000000
DTEND;TZID=America/Los_Angeles:20260706T235959
DTSTAMP:20260422T190550
CREATED:20250509T171905Z
LAST-MODIFIED:20250807T173409Z
UID:10028287-1783296000-1783382399@create.vegas
SUMMARY:8pm/$5 Door: Las Vegues Trio
DESCRIPTION:
URL:https://create.vegas/event/hold-las-vegs-trio-49/
LOCATION:NV
CATEGORIES:Rock & Punk
END:VEVENT
END:VCALENDAR