BEGIN:VCALENDAR
VERSION:2.0
PRODID:-//Create.Vegas - ECPv6.15.20//NONSGML v1.0//EN
CALSCALE:GREGORIAN
METHOD:PUBLISH
X-ORIGINAL-URL:https://create.vegas
X-WR-CALDESC:Events for Create.Vegas
REFRESH-INTERVAL;VALUE=DURATION:PT1H
X-Robots-Tag:noindex
X-PUBLISHED-TTL:PT1H
BEGIN:VTIMEZONE
TZID:America/Los_Angeles
BEGIN:DAYLIGHT
TZOFFSETFROM:-0800
TZOFFSETTO:-0700
TZNAME:PDT
DTSTART:20250309T100000
END:DAYLIGHT
BEGIN:STANDARD
TZOFFSETFROM:-0700
TZOFFSETTO:-0800
TZNAME:PST
DTSTART:20251102T090000
END:STANDARD
BEGIN:DAYLIGHT
TZOFFSETFROM:-0800
TZOFFSETTO:-0700
TZNAME:PDT
DTSTART:20260308T100000
END:DAYLIGHT
BEGIN:STANDARD
TZOFFSETFROM:-0700
TZOFFSETTO:-0800
TZNAME:PST
DTSTART:20261101T090000
END:STANDARD
BEGIN:DAYLIGHT
TZOFFSETFROM:-0800
TZOFFSETTO:-0700
TZNAME:PDT
DTSTART:20270314T100000
END:DAYLIGHT
BEGIN:STANDARD
TZOFFSETFROM:-0700
TZOFFSETTO:-0800
TZNAME:PST
DTSTART:20271107T090000
END:STANDARD
END:VTIMEZONE
BEGIN:VEVENT
DTSTART;TZID=America/Los_Angeles:20260703T203000
DTEND;TZID=America/Los_Angeles:20260704T003000
DTSTAMP:20260422T174058
CREATED:20251226T030616Z
LAST-MODIFIED:20260417T065046Z
UID:10032216-1783110600-1783125000@create.vegas
SUMMARY:4th of July Fremont Street Bar Crawl
DESCRIPTION:Party at the best Downtown Las Vegas bars with this Fourth of July in Vegas!
URL:https://create.vegas/event/4th-of-july-fremont-street-bar-crawl/
LOCATION:Fremont Street  (check our website for starting location)\, Fremont Street\, Las Vegas\, NV\, 89101\, United States
CATEGORIES:Food & Drink & Fun
ATTACH;FMTTYPE=image/jpeg:https://create.vegas/wp-content/uploads/2025/12/fb7e3efa359a69d253614027c5b0361c.jpg
END:VEVENT
BEGIN:VEVENT
DTSTART;TZID=America/Los_Angeles:20260703T203000
DTEND;TZID=America/Los_Angeles:20260704T003000
DTSTAMP:20260422T174058
CREATED:20260320T055214Z
LAST-MODIFIED:20260417T065039Z
UID:10033819-1783110600-1783125000@create.vegas
SUMMARY:Fremont Street Bar Crawl
DESCRIPTION:Fremont Street Bar Crawl gets you exclusive perks at the best bars in Old Vegas.
URL:https://create.vegas/event/fremont-street-bar-crawl-377/
LOCATION:Meeting Venue TBA – Check website for details\, Fremont St\, Las Vegas\, NV\, 89101\, United States
CATEGORIES:Food & Drink & Fun
ATTACH;FMTTYPE=image/jpeg:https://create.vegas/wp-content/uploads/2025/12/6209811cb488331552d7bc6caf142c54.jpg
END:VEVENT
BEGIN:VEVENT
DTSTART;TZID=America/Los_Angeles:20260703T213000
DTEND;TZID=America/Los_Angeles:20260704T010000
DTSTAMP:20260422T174058
CREATED:20251226T030620Z
LAST-MODIFIED:20260417T065048Z
UID:10032220-1783114200-1783126800@create.vegas
SUMMARY:4th of July Las Vegas Club Crawl
DESCRIPTION:This Las Vegas Club Crawl is Las Vegas’s premier party bus tour\, taking you to the best clubs in Vegas this 4th of July Weekend.
URL:https://create.vegas/event/4th-of-july-las-vegas-club-crawl-7/
LOCATION:NV
CATEGORIES:Food & Drink & Fun
ATTACH;FMTTYPE=image/jpeg:https://create.vegas/wp-content/uploads/2025/12/8923e57fb305b7c0fbb5bcbb2c941ae0.jpg
END:VEVENT
BEGIN:VEVENT
DTSTART;TZID=America/Los_Angeles:20260704T113000
DTEND;TZID=America/Los_Angeles:20260704T170000
DTSTAMP:20260422T174058
CREATED:20251107T024754Z
LAST-MODIFIED:20260417T065058Z
UID:10031086-1783164600-1783184400@create.vegas
SUMMARY:Las Vegas Pool Crawl
DESCRIPTION:Party at the best pool parties in Las Vegas this summer!
URL:https://create.vegas/event/las-vegas-pool-crawl-229/
LOCATION:Las Vegas Strip\, TBA\, Las Vegas\, NV\, 89109\, United States
CATEGORIES:Food & Drink & Fun
ATTACH;FMTTYPE=image/jpeg:https://create.vegas/wp-content/uploads/2025/09/e51a000afcf0608166fb2e5b19d6d060.jpg
END:VEVENT
BEGIN:VEVENT
DTSTART;TZID=America/Los_Angeles:20260704T113000
DTEND;TZID=America/Los_Angeles:20260704T170000
DTSTAMP:20260422T174058
CREATED:20251226T030645Z
LAST-MODIFIED:20260417T065116Z
UID:10032223-1783164600-1783184400@create.vegas
SUMMARY:4th of July Las Vegas Pool Crawl
DESCRIPTION:This Las Vegas Pool Crawl is Las Vegas’s premier party bus tour\, taking you to the best pool parties in Vegas this 4th of July Weekend!
URL:https://create.vegas/event/4th-of-july-las-vegas-pool-crawl-9/
LOCATION:Las Vegas Strip  (check our website for starting location)\, Las Vegas Strip\, Las Vegas\, NV\, 89109\, United States
CATEGORIES:Food & Drink & Fun
ATTACH;FMTTYPE=image/jpeg:https://create.vegas/wp-content/uploads/2025/12/c5f9ac6cc4a73ba628938c038dde6c8e.jpg
END:VEVENT
BEGIN:VEVENT
DTSTART;TZID=America/Los_Angeles:20260704T120000
DTEND;TZID=America/Los_Angeles:20260704T180000
DTSTAMP:20260422T174058
CREATED:20260327T211823Z
LAST-MODIFIED:20260417T215856Z
UID:10034223-1783166400-1783188000@create.vegas
SUMMARY:ELEVATE PRIDE POOL PARTY
DESCRIPTION:The official Las Vegas PRIDE Pool Party is at the All-New SAHARA!
URL:https://create.vegas/event/elevate-pride-pool-party-6/
LOCATION:Retro Pool\, 2535 Las Vegas Blvd. South\, Las Vegas\, NV\, 89109\, United States
ATTACH;FMTTYPE=image/jpeg:https://create.vegas/wp-content/uploads/2026/03/e2c36fd70071f3fb9df09db5551bbd7d.jpg
END:VEVENT
BEGIN:VEVENT
DTSTART;TZID=America/Los_Angeles:20260704T180000
DTEND;TZID=America/Los_Angeles:20260704T220000
DTSTAMP:20260422T174058
CREATED:20251226T030619Z
LAST-MODIFIED:20260227T050917Z
UID:10032218-1783188000-1783202400@create.vegas
SUMMARY:4th of July Miami Bar Crawl
DESCRIPTION:Get ready for the ultimate Miami nightlife experience with the #1 Miami Bar Crawl
URL:https://create.vegas/event/4th-of-july-miami-bar-crawl-2/
LOCATION:NV
CATEGORIES:Food & Drink & Fun
ATTACH;FMTTYPE=image/jpeg:https://create.vegas/wp-content/uploads/2025/12/fd2eceea6dcffda6f3c9dd9e2061e171.jpg
END:VEVENT
BEGIN:VEVENT
DTSTART;TZID=America/Los_Angeles:20260704T203000
DTEND;TZID=America/Los_Angeles:20260705T003000
DTSTAMP:20260422T174058
CREATED:20251226T030646Z
LAST-MODIFIED:20260417T065046Z
UID:10032225-1783197000-1783211400@create.vegas
SUMMARY:4th of July Fremont Street Bar Crawl
DESCRIPTION:Party at the best Downtown Las Vegas bars with this Fourth of July in Vegas!
URL:https://create.vegas/event/4th-of-july-fremont-street-bar-crawl-4/
LOCATION:Fremont Street  (check our website for starting location)\, Fremont Street\, Las Vegas\, NV\, 89101\, United States
CATEGORIES:Food & Drink & Fun
ATTACH;FMTTYPE=image/jpeg:https://create.vegas/wp-content/uploads/2025/12/fb7e3efa359a69d253614027c5b0361c.jpg
END:VEVENT
BEGIN:VEVENT
DTSTART;TZID=America/Los_Angeles:20260704T203000
DTEND;TZID=America/Los_Angeles:20260705T003000
DTSTAMP:20260422T174058
CREATED:20260320T055215Z
LAST-MODIFIED:20260417T065039Z
UID:10033820-1783197000-1783211400@create.vegas
SUMMARY:Fremont Street Bar Crawl
DESCRIPTION:Fremont Street Bar Crawl gets you exclusive perks at the best bars in Old Vegas.
URL:https://create.vegas/event/fremont-street-bar-crawl-378/
LOCATION:Meeting Venue TBA – Check website for details\, Fremont St\, Las Vegas\, NV\, 89101\, United States
CATEGORIES:Food & Drink & Fun
ATTACH;FMTTYPE=image/jpeg:https://create.vegas/wp-content/uploads/2025/12/6209811cb488331552d7bc6caf142c54.jpg
END:VEVENT
BEGIN:VEVENT
DTSTART;TZID=America/Los_Angeles:20260704T213000
DTEND;TZID=America/Los_Angeles:20260705T010000
DTSTAMP:20260422T174058
CREATED:20251226T030621Z
LAST-MODIFIED:20260417T065048Z
UID:10032221-1783200600-1783213200@create.vegas
SUMMARY:4th of July Las Vegas Club Crawl
DESCRIPTION:This Las Vegas Club Crawl is Las Vegas’s premier party bus tour\, taking you to the best clubs in Vegas this 4th of July Weekend.
URL:https://create.vegas/event/4th-of-july-las-vegas-club-crawl-8/
LOCATION:NV
CATEGORIES:Food & Drink & Fun
ATTACH;FMTTYPE=image/jpeg:https://create.vegas/wp-content/uploads/2025/12/8923e57fb305b7c0fbb5bcbb2c941ae0.jpg
END:VEVENT
END:VCALENDAR