BEGIN:VCALENDAR
VERSION:2.0
PRODID:-//Create.Vegas - ECPv6.15.20//NONSGML v1.0//EN
CALSCALE:GREGORIAN
METHOD:PUBLISH
X-WR-CALNAME:Create.Vegas
X-ORIGINAL-URL:https://create.vegas
X-WR-CALDESC:Events for Create.Vegas
REFRESH-INTERVAL;VALUE=DURATION:PT1H
X-Robots-Tag:noindex
X-PUBLISHED-TTL:PT1H
BEGIN:VTIMEZONE
TZID:America/Los_Angeles
BEGIN:DAYLIGHT
TZOFFSETFROM:-0800
TZOFFSETTO:-0700
TZNAME:PDT
DTSTART:20250309T100000
END:DAYLIGHT
BEGIN:STANDARD
TZOFFSETFROM:-0700
TZOFFSETTO:-0800
TZNAME:PST
DTSTART:20251102T090000
END:STANDARD
BEGIN:DAYLIGHT
TZOFFSETFROM:-0800
TZOFFSETTO:-0700
TZNAME:PDT
DTSTART:20260308T100000
END:DAYLIGHT
BEGIN:STANDARD
TZOFFSETFROM:-0700
TZOFFSETTO:-0800
TZNAME:PST
DTSTART:20261101T090000
END:STANDARD
BEGIN:DAYLIGHT
TZOFFSETFROM:-0800
TZOFFSETTO:-0700
TZNAME:PDT
DTSTART:20270314T100000
END:DAYLIGHT
BEGIN:STANDARD
TZOFFSETFROM:-0700
TZOFFSETTO:-0800
TZNAME:PST
DTSTART:20271107T090000
END:STANDARD
END:VTIMEZONE
BEGIN:VEVENT
DTSTART;TZID=America/Los_Angeles:20260619T113000
DTEND;TZID=America/Los_Angeles:20260619T170000
DTSTAMP:20260422T172347
CREATED:20251107T024751Z
LAST-MODIFIED:20260417T065057Z
UID:10031079-1781868600-1781888400@create.vegas
SUMMARY:Las Vegas Pool Crawl
DESCRIPTION:Party at the best pool parties in Las Vegas this summer!
URL:https://create.vegas/event/las-vegas-pool-crawl-222/
LOCATION:Las Vegas Strip\, TBA\, Las Vegas\, NV\, 89109\, United States
CATEGORIES:Food & Drink & Fun
ATTACH;FMTTYPE=image/jpeg:https://create.vegas/wp-content/uploads/2025/09/e51a000afcf0608166fb2e5b19d6d060.jpg
END:VEVENT
BEGIN:VEVENT
DTSTART;TZID=America/Los_Angeles:20260619T150000
DTEND;TZID=America/Los_Angeles:20260621T230000
DTSTAMP:20260422T172347
CREATED:20260205T024756Z
LAST-MODIFIED:20260406T030304Z
UID:10033010-1781881200-1782082800@create.vegas
SUMMARY:626 Night Market - Arcadia | June 19-21\, 2026
DESCRIPTION:Experience 626 Night Market\, the original Asian night market in the U.S.\, with iconic street food\, handcrafted merch\, and live performances.\n\n\n626 Night Market was founded in 2012 and named after Southern California’s 626 area code. The 626 Night Market is more than just a food festival\, it’s a celebration of Asian-inspired culture and rich tapestry of Asian food\, creativity\, and community. \n\n\n \nEvent Hours \nFriday – 3PM – 11PM \nSaturday – 3 PM – 11PM \nSunday – 3PM – 11PM \n\n\n \nEvent Details: \n\nLocation: Santa Anita Park (285 W Huntington Dr.\, Arcadia\, CA 91007)\nAdmission: Tickets are available online only. Children 5 & under are admitted for free.\nParking: Free. Accessible parking is available.\nPets: Service animals only.\nVisit our website for more info: Click Here\nFollow us on Instagram: Click Here\n\n\n\n \nNote: \n\nGuests may stay as long as they like once inside; there is no time limit for the day. No re-entry.\nUtilizing public transportation and carpooling is highly recommended.
URL:https://create.vegas/event/626-night-market-arcadia-june-19-21-2026/
LOCATION:Santa Anita Park\, 285 West Huntington Drive\, Arcadia\, CA\, 91007\, United States
ATTACH;FMTTYPE=image/jpeg:https://create.vegas/wp-content/uploads/2026/02/42cd9850984a418c3467278aa46afcbb.jpg
END:VEVENT
BEGIN:VEVENT
DTSTART;TZID=America/Los_Angeles:20260619T183000
DTEND;TZID=America/Los_Angeles:20260619T200000
DTSTAMP:20260422T172347
CREATED:20251105T170741Z
LAST-MODIFIED:20251105T170741Z
UID:10030597-1781893800-1781899200@create.vegas
SUMMARY:Chase Brown's Vegas Country
DESCRIPTION:The Singing Cowboy performs hits from every decade to get you out on the floor.
URL:https://create.vegas/event/chase-browns-vegas-country-118/
LOCATION:450 Fremont St #380\, 450 Fremont Street\, #380\, Las Vegas\, NV\, 89101\, United States
CATEGORIES:Performing Arts
ATTACH;FMTTYPE=image/jpeg:https://create.vegas/wp-content/uploads/2025/11/122b3c5366872efce50a220027e44716.jpg
END:VEVENT
BEGIN:VEVENT
DTSTART;TZID=America/Los_Angeles:20260619T190000
DTEND;TZID=America/Los_Angeles:20260619T233000
DTSTAMP:20260422T172347
CREATED:20260204T014754Z
LAST-MODIFIED:20260406T034748Z
UID:10032993-1781895600-1781911800@create.vegas
SUMMARY:POLKADOT CADAVER     THE ANGRY TOONS      ALGORERHYTHM
DESCRIPTION:Get ready to rock with POLKADOT CADAVER\, THE ANGRY TOONS & ALGORERHYTHM live and loud!\n\n\nPOLKADOT CADAVER     THE ANGRY TOONS      ALGORERHYTHM Event \nGet Ready for POLKADOT CADAVER\, THE ANGRY TOONS & ALGORERHYTHM!\nCome hang out in person and catch an epic lineup featuring POLKADOT CADAVER\, THE ANGRY TOONS\, and ALGORERHYTHM. Expect high energy vibes\, killer tunes\, and a wicked good time. Don’t miss out on this live experience that’s sure to blow your mind!
URL:https://create.vegas/event/polkadot-cadaver-the-angry-toons-algorerhythm/
LOCATION:DIVEBAR Las Vegas\, 4110 S MARYLAND PARKWAY\, #12\, Las Vegas\, NV\, 89119\, United States
CATEGORIES:Rock & Punk
ATTACH;FMTTYPE=image/jpeg:https://create.vegas/wp-content/uploads/2026/02/65c746b781fd8ebe03b752822b042bb6.jpg
END:VEVENT
BEGIN:VEVENT
DTSTART;TZID=America/Los_Angeles:20260619T203000
DTEND;TZID=America/Los_Angeles:20260620T003000
DTSTAMP:20260422T172347
CREATED:20260306T052152Z
LAST-MODIFIED:20260417T065038Z
UID:10033667-1781901000-1781915400@create.vegas
SUMMARY:Fremont Street Bar Crawl
DESCRIPTION:Fremont Street Bar Crawl gets you exclusive perks at the best bars in Old Vegas.
URL:https://create.vegas/event/fremont-street-bar-crawl-371/
LOCATION:Meeting Venue TBA – Check website for details\, Fremont St\, Las Vegas\, NV\, 89101\, United States
CATEGORIES:Food & Drink & Fun
ATTACH;FMTTYPE=image/jpeg:https://create.vegas/wp-content/uploads/2025/12/6209811cb488331552d7bc6caf142c54.jpg
END:VEVENT
END:VCALENDAR