BEGIN:VCALENDAR
VERSION:2.0
PRODID:-//Create.Vegas - ECPv6.15.20//NONSGML v1.0//EN
CALSCALE:GREGORIAN
METHOD:PUBLISH
X-ORIGINAL-URL:https://create.vegas
X-WR-CALDESC:Events for Create.Vegas
REFRESH-INTERVAL;VALUE=DURATION:PT1H
X-Robots-Tag:noindex
X-PUBLISHED-TTL:PT1H
BEGIN:VTIMEZONE
TZID:America/Los_Angeles
BEGIN:DAYLIGHT
TZOFFSETFROM:-0800
TZOFFSETTO:-0700
TZNAME:PDT
DTSTART:20250309T100000
END:DAYLIGHT
BEGIN:STANDARD
TZOFFSETFROM:-0700
TZOFFSETTO:-0800
TZNAME:PST
DTSTART:20251102T090000
END:STANDARD
BEGIN:DAYLIGHT
TZOFFSETFROM:-0800
TZOFFSETTO:-0700
TZNAME:PDT
DTSTART:20260308T100000
END:DAYLIGHT
BEGIN:STANDARD
TZOFFSETFROM:-0700
TZOFFSETTO:-0800
TZNAME:PST
DTSTART:20261101T090000
END:STANDARD
BEGIN:DAYLIGHT
TZOFFSETFROM:-0800
TZOFFSETTO:-0700
TZNAME:PDT
DTSTART:20270314T100000
END:DAYLIGHT
BEGIN:STANDARD
TZOFFSETFROM:-0700
TZOFFSETTO:-0800
TZNAME:PST
DTSTART:20271107T090000
END:STANDARD
END:VTIMEZONE
BEGIN:VEVENT
DTSTART;TZID=America/Los_Angeles:20260614T203000
DTEND;TZID=America/Los_Angeles:20260615T003000
DTSTAMP:20260422T172704
CREATED:20260306T052151Z
LAST-MODIFIED:20260417T065038Z
UID:10033666-1781469000-1781483400@create.vegas
SUMMARY:Fremont Street Bar Crawl
DESCRIPTION:Fremont Street Bar Crawl gets you exclusive perks at the best bars in Old Vegas.
URL:https://create.vegas/event/fremont-street-bar-crawl-370/
LOCATION:Meeting Venue TBA – Check website for details\, Fremont St\, Las Vegas\, NV\, 89101\, United States
CATEGORIES:Food & Drink & Fun
ATTACH;FMTTYPE=image/jpeg:https://create.vegas/wp-content/uploads/2025/12/6209811cb488331552d7bc6caf142c54.jpg
END:VEVENT
BEGIN:VEVENT
DTSTART;TZID=America/Los_Angeles:20260614T210000
DTEND;TZID=America/Los_Angeles:20260615T010000
DTSTAMP:20260422T172704
CREATED:20260417T065114Z
LAST-MODIFIED:20260417T065114Z
UID:10034417-1781470800-1781485200@create.vegas
SUMMARY:Las Vegas Strip Club Crawl
DESCRIPTION:Free entry & VIP transportation to the best Strip Clubs in Vegas!
URL:https://create.vegas/event/las-vegas-strip-club-crawl-84/
LOCATION:Caesars Palace\, 3570 South Las Vegas Boulevard\, Paradise\, NV\, 89109\, United States
CATEGORIES:Food & Drink & Fun
ATTACH;FMTTYPE=image/jpeg:https://create.vegas/wp-content/uploads/2026/02/a6afa8ce28b26988a3427189f0ff8ae4.jpg
END:VEVENT
BEGIN:VEVENT
DTSTART;TZID=America/Los_Angeles:20260615T000000
DTEND;TZID=America/Los_Angeles:20260615T235959
DTSTAMP:20260422T172704
CREATED:20250509T171904Z
LAST-MODIFIED:20250807T173409Z
UID:10028282-1781481600-1781567999@create.vegas
SUMMARY:8pm/$5 Door: Las Vegues Trio
DESCRIPTION:
URL:https://create.vegas/event/hold-las-vegs-trio-46/
LOCATION:NV
CATEGORIES:Rock & Punk
END:VEVENT
END:VCALENDAR