BEGIN:VCALENDAR
VERSION:2.0
PRODID:-//Create.Vegas - ECPv6.15.20//NONSGML v1.0//EN
CALSCALE:GREGORIAN
METHOD:PUBLISH
X-ORIGINAL-URL:https://create.vegas
X-WR-CALDESC:Events for Create.Vegas
REFRESH-INTERVAL;VALUE=DURATION:PT1H
X-Robots-Tag:noindex
X-PUBLISHED-TTL:PT1H
BEGIN:VTIMEZONE
TZID:America/Los_Angeles
BEGIN:DAYLIGHT
TZOFFSETFROM:-0800
TZOFFSETTO:-0700
TZNAME:PDT
DTSTART:20250309T100000
END:DAYLIGHT
BEGIN:STANDARD
TZOFFSETFROM:-0700
TZOFFSETTO:-0800
TZNAME:PST
DTSTART:20251102T090000
END:STANDARD
BEGIN:DAYLIGHT
TZOFFSETFROM:-0800
TZOFFSETTO:-0700
TZNAME:PDT
DTSTART:20260308T100000
END:DAYLIGHT
BEGIN:STANDARD
TZOFFSETFROM:-0700
TZOFFSETTO:-0800
TZNAME:PST
DTSTART:20261101T090000
END:STANDARD
BEGIN:DAYLIGHT
TZOFFSETFROM:-0800
TZOFFSETTO:-0700
TZNAME:PDT
DTSTART:20270314T100000
END:DAYLIGHT
BEGIN:STANDARD
TZOFFSETFROM:-0700
TZOFFSETTO:-0800
TZNAME:PST
DTSTART:20271107T090000
END:STANDARD
END:VTIMEZONE
BEGIN:VEVENT
DTSTART;TZID=America/Los_Angeles:20260605T203000
DTEND;TZID=America/Los_Angeles:20260606T003000
DTSTAMP:20260422T172622
CREATED:20260213T043640Z
LAST-MODIFIED:20260417T065037Z
UID:10033099-1780691400-1780705800@create.vegas
SUMMARY:Fremont Street Bar Crawl
DESCRIPTION:Fremont Street Bar Crawl gets you exclusive perks at the best bars in Old Vegas.
URL:https://create.vegas/event/fremont-street-bar-crawl-365/
LOCATION:Meeting Venue TBA – Check website for details\, Fremont St\, Las Vegas\, NV\, 89101\, United States
CATEGORIES:Food & Drink & Fun
ATTACH;FMTTYPE=image/jpeg:https://create.vegas/wp-content/uploads/2025/12/6209811cb488331552d7bc6caf142c54.jpg
END:VEVENT
BEGIN:VEVENT
DTSTART;TZID=America/Los_Angeles:20260605T210000
DTEND;TZID=America/Los_Angeles:20260606T010000
DTSTAMP:20260422T172622
CREATED:20260410T063649Z
LAST-MODIFIED:20260417T065112Z
UID:10034368-1780693200-1780707600@create.vegas
SUMMARY:Las Vegas Strip Club Crawl
DESCRIPTION:Free entry & VIP transportation to the best Strip Clubs in Vegas!
URL:https://create.vegas/event/las-vegas-strip-club-crawl-77/
LOCATION:Caesars Palace\, 3570 South Las Vegas Boulevard\, Paradise\, NV\, 89109\, United States
CATEGORIES:Food & Drink & Fun
ATTACH;FMTTYPE=image/jpeg:https://create.vegas/wp-content/uploads/2026/02/a6afa8ce28b26988a3427189f0ff8ae4.jpg
END:VEVENT
BEGIN:VEVENT
DTSTART;TZID=America/Los_Angeles:20260605T213000
DTEND;TZID=America/Los_Angeles:20260606T010000
DTSTAMP:20260422T172622
CREATED:20260417T065033Z
LAST-MODIFIED:20260417T065033Z
UID:10034405-1780695000-1780707600@create.vegas
SUMMARY:Las Vegas Club Crawl with Party Bus
DESCRIPTION:Party like a VIP at the best clubs in Vegas: Free entry\, and a party bus with free drinks!
URL:https://create.vegas/event/las-vegas-club-crawl-with-party-bus-427/
LOCATION:LA Epic Club Crawls\, Please check our website for starting location\, Las Vegas\, NV\, 89109\, United States
CATEGORIES:Food & Drink & Fun
ATTACH;FMTTYPE=image/jpeg:https://create.vegas/wp-content/uploads/2025/09/54339c18a39f77272fdd2fdb8168bc42.jpg
END:VEVENT
BEGIN:VEVENT
DTSTART;TZID=America/Los_Angeles:20260606T113000
DTEND;TZID=America/Los_Angeles:20260606T170000
DTSTAMP:20260422T172622
CREATED:20251107T024749Z
LAST-MODIFIED:20260417T065056Z
UID:10031074-1780745400-1780765200@create.vegas
SUMMARY:Las Vegas Pool Crawl
DESCRIPTION:Party at the best pool parties in Las Vegas this summer!
URL:https://create.vegas/event/las-vegas-pool-crawl-217/
LOCATION:Las Vegas Strip\, TBA\, Las Vegas\, NV\, 89109\, United States
CATEGORIES:Food & Drink & Fun
ATTACH;FMTTYPE=image/jpeg:https://create.vegas/wp-content/uploads/2025/09/e51a000afcf0608166fb2e5b19d6d060.jpg
END:VEVENT
BEGIN:VEVENT
DTSTART;TZID=America/Los_Angeles:20260606T120000
DTEND;TZID=America/Los_Angeles:20260606T180000
DTSTAMP:20260422T172622
CREATED:20260327T211822Z
LAST-MODIFIED:20260417T215855Z
UID:10034220-1780747200-1780768800@create.vegas
SUMMARY:ELEVATE PRIDE POOL PARTY
DESCRIPTION:The official Las Vegas PRIDE Pool Party is at the All-New SAHARA!
URL:https://create.vegas/event/elevate-pride-pool-party-3/
LOCATION:Retro Pool\, 2535 Las Vegas Blvd. South\, Las Vegas\, NV\, 89109\, United States
ATTACH;FMTTYPE=image/jpeg:https://create.vegas/wp-content/uploads/2026/03/e2c36fd70071f3fb9df09db5551bbd7d.jpg
END:VEVENT
BEGIN:VEVENT
DTSTART;TZID=America/Los_Angeles:20260606T203000
DTEND;TZID=America/Los_Angeles:20260607T003000
DTSTAMP:20260422T172622
CREATED:20260213T043640Z
LAST-MODIFIED:20260417T065038Z
UID:10033100-1780777800-1780792200@create.vegas
SUMMARY:Fremont Street Bar Crawl
DESCRIPTION:Fremont Street Bar Crawl gets you exclusive perks at the best bars in Old Vegas.
URL:https://create.vegas/event/fremont-street-bar-crawl-366/
LOCATION:Meeting Venue TBA – Check website for details\, Fremont St\, Las Vegas\, NV\, 89101\, United States
CATEGORIES:Food & Drink & Fun
ATTACH;FMTTYPE=image/jpeg:https://create.vegas/wp-content/uploads/2025/12/6209811cb488331552d7bc6caf142c54.jpg
END:VEVENT
BEGIN:VEVENT
DTSTART;TZID=America/Los_Angeles:20260606T210000
DTEND;TZID=America/Los_Angeles:20260607T010000
DTSTAMP:20260422T172622
CREATED:20260410T063649Z
LAST-MODIFIED:20260417T065113Z
UID:10034369-1780779600-1780794000@create.vegas
SUMMARY:Las Vegas Strip Club Crawl
DESCRIPTION:Free entry & VIP transportation to the best Strip Clubs in Vegas!
URL:https://create.vegas/event/las-vegas-strip-club-crawl-78/
LOCATION:Caesars Palace\, 3570 South Las Vegas Boulevard\, Paradise\, NV\, 89109\, United States
CATEGORIES:Food & Drink & Fun
ATTACH;FMTTYPE=image/jpeg:https://create.vegas/wp-content/uploads/2026/02/a6afa8ce28b26988a3427189f0ff8ae4.jpg
END:VEVENT
BEGIN:VEVENT
DTSTART;TZID=America/Los_Angeles:20260606T213000
DTEND;TZID=America/Los_Angeles:20260607T010000
DTSTAMP:20260422T172622
CREATED:20260417T065033Z
LAST-MODIFIED:20260417T065033Z
UID:10034406-1780781400-1780794000@create.vegas
SUMMARY:Las Vegas Club Crawl with Party Bus
DESCRIPTION:Party like a VIP at the best clubs in Vegas: Free entry\, and a party bus with free drinks!
URL:https://create.vegas/event/las-vegas-club-crawl-with-party-bus-428/
LOCATION:LA Epic Club Crawls\, Please check our website for starting location\, Las Vegas\, NV\, 89109\, United States
CATEGORIES:Food & Drink & Fun
ATTACH;FMTTYPE=image/jpeg:https://create.vegas/wp-content/uploads/2025/09/54339c18a39f77272fdd2fdb8168bc42.jpg
END:VEVENT
END:VCALENDAR