BEGIN:VCALENDAR
VERSION:2.0
PRODID:-//Create.Vegas - ECPv6.15.20//NONSGML v1.0//EN
CALSCALE:GREGORIAN
METHOD:PUBLISH
X-ORIGINAL-URL:https://create.vegas
X-WR-CALDESC:Events for Create.Vegas
REFRESH-INTERVAL;VALUE=DURATION:PT1H
X-Robots-Tag:noindex
X-PUBLISHED-TTL:PT1H
BEGIN:VTIMEZONE
TZID:America/Los_Angeles
BEGIN:DAYLIGHT
TZOFFSETFROM:-0800
TZOFFSETTO:-0700
TZNAME:PDT
DTSTART:20250309T100000
END:DAYLIGHT
BEGIN:STANDARD
TZOFFSETFROM:-0700
TZOFFSETTO:-0800
TZNAME:PST
DTSTART:20251102T090000
END:STANDARD
BEGIN:DAYLIGHT
TZOFFSETFROM:-0800
TZOFFSETTO:-0700
TZNAME:PDT
DTSTART:20260308T100000
END:DAYLIGHT
BEGIN:STANDARD
TZOFFSETFROM:-0700
TZOFFSETTO:-0800
TZNAME:PST
DTSTART:20261101T090000
END:STANDARD
BEGIN:DAYLIGHT
TZOFFSETFROM:-0800
TZOFFSETTO:-0700
TZNAME:PDT
DTSTART:20270314T100000
END:DAYLIGHT
BEGIN:STANDARD
TZOFFSETFROM:-0700
TZOFFSETTO:-0800
TZNAME:PST
DTSTART:20271107T090000
END:STANDARD
END:VTIMEZONE
BEGIN:VEVENT
DTSTART;TZID=America/Los_Angeles:20260505T210000
DTEND;TZID=America/Los_Angeles:20260506T010000
DTSTAMP:20260422T152807
CREATED:20260306T052252Z
LAST-MODIFIED:20260417T065105Z
UID:10033672-1778014800-1778029200@create.vegas
SUMMARY:Las Vegas Strip Club Crawl
DESCRIPTION:Free entry & VIP transportation to the best Strip Clubs in Vegas!
URL:https://create.vegas/event/las-vegas-strip-club-crawl-52/
LOCATION:Caesars Palace\, 3570 South Las Vegas Boulevard\, Paradise\, NV\, 89109\, United States
CATEGORIES:Food & Drink & Fun
ATTACH;FMTTYPE=image/jpeg:https://create.vegas/wp-content/uploads/2026/02/a6afa8ce28b26988a3427189f0ff8ae4.jpg
END:VEVENT
BEGIN:VEVENT
DTSTART;TZID=America/Los_Angeles:20260505T213000
DTEND;TZID=America/Los_Angeles:20260506T010000
DTSTAMP:20260422T152807
CREATED:20260313T053609Z
LAST-MODIFIED:20260417T065029Z
UID:10033752-1778016600-1778029200@create.vegas
SUMMARY:Las Vegas Club Crawl with Party Bus
DESCRIPTION:Party like a VIP at the best clubs in Vegas: Free entry\, and a party bus with free drinks!
URL:https://create.vegas/event/las-vegas-club-crawl-with-party-bus-399/
LOCATION:LA Epic Club Crawls\, Please check our website for starting location\, Las Vegas\, NV\, 89109\, United States
CATEGORIES:Food & Drink & Fun
ATTACH;FMTTYPE=image/jpeg:https://create.vegas/wp-content/uploads/2025/09/54339c18a39f77272fdd2fdb8168bc42.jpg
END:VEVENT
BEGIN:VEVENT
DTSTART;TZID=America/Los_Angeles:20260505T213000
DTEND;TZID=America/Los_Angeles:20260506T020000
DTSTAMP:20260422T152807
CREATED:20251114T023510Z
LAST-MODIFIED:20260417T065045Z
UID:10031199-1778016600-1778032800@create.vegas
SUMMARY:Cinco de Mayo Las Vegas Club Crawl
DESCRIPTION:This Las Vegas Club Crawl is Las Vegas’s premier party bus tour\, taking you to the best clubs in Vegas this Cinco de Mayo Weekend!
URL:https://create.vegas/event/cinco-de-mayo-las-vegas-club-crawl-2/
LOCATION:Las Vegas Strip\, TBA\, Las Vegas\, NV\, 89109\, United States
CATEGORIES:Food & Drink & Fun
ATTACH;FMTTYPE=image/jpeg:https://create.vegas/wp-content/uploads/2025/02/a834be178e746d81eec238084fbb4b1f.jpg
END:VEVENT
BEGIN:VEVENT
DTSTART;TZID=America/Los_Angeles:20260506T190000
DTEND;TZID=America/Los_Angeles:20260506T220000
DTSTAMP:20260422T152807
CREATED:20250609T024906Z
LAST-MODIFIED:20251007T024821Z
UID:10028716-1778094000-1778104800@create.vegas
SUMMARY:Vintage Glam _ A Nostalgic Evening
DESCRIPTION:Come join us for a night of old-school glamour\, timeless tunes\, classic cocktails\, and scrumptious bites.  2 drink minimum per person.
URL:https://create.vegas/event/vintage-glam-_-a-nostalgic-evening-19/
LOCATION:The Lexi Las Vegas\, 1501 West Sahara Avenue\, Las Vegas\, NV\, 89102\, United States
CATEGORIES:Rock & Punk
ATTACH;FMTTYPE=image/jpeg:https://create.vegas/wp-content/uploads/2025/07/6e372c260d560a8a2ef4892d05b4b684.jpg
END:VEVENT
BEGIN:VEVENT
DTSTART;TZID=America/Los_Angeles:20260506T193000
DTEND;TZID=America/Los_Angeles:20260506T210000
DTSTAMP:20260422T152807
CREATED:20251105T170759Z
LAST-MODIFIED:20251105T170759Z
UID:10030624-1778095800-1778101200@create.vegas
SUMMARY:Jazz Vegas Orchestra Live
DESCRIPTION:Las Vegas’s hottest big band\, the Jazz Vegas Orchestra (formerly JOI Jazz Orchestra) brings high energy big band jazz back to downtown LV!
URL:https://create.vegas/event/jazz-vegas-orchestra-live-19/
LOCATION:450 Fremont St #380\, 450 Fremont Street\, #380\, Las Vegas\, NV\, 89101\, United States
CATEGORIES:Performing Arts
ATTACH;FMTTYPE=image/jpeg:https://create.vegas/wp-content/uploads/2025/11/c442041b39e09839ec4f53ad8838ab31.jpg
END:VEVENT
BEGIN:VEVENT
DTSTART;TZID=America/Los_Angeles:20260506T193000
DTEND;TZID=America/Los_Angeles:20260506T235900
DTSTAMP:20260422T152807
CREATED:20260407T170824Z
LAST-MODIFIED:20260421T171754Z
UID:10034345-1778095800-1778111940@create.vegas
SUMMARY:Jazz Vegas Orchestra Live
DESCRIPTION:Las Vegas’s hottest big band\, the Jazz Vegas Orchestra (formerly JOI Jazz Orchestra) brings high energy big band jazz back to downtown Las Vegas to its home on Fremont Street\, Notoriety at Neonopolis! Experience Las Vegas’s top jazz musicians in an exciting presentation of modern\, classic\, and new arrangements of iconic big band music served with a side of exceptional beer\, wine\, and cocktails! The Jazz Vegas Orchestra is a presentation of Jazz Outreach Initiative. \nBuy Tickets \nAges 21+ \nDoors at 7:00 PM\nShow time at 7:30 PM \nPARKING INFO: Parking is available underneath Neonopolis from 4th street and Fremont\, the ramp is on the right side of the street just past Denny’s. Park on level P2. Once parked\, take the parking elevator from the parking garage up to the 3rd floor. Notoriety’s doors are straight ahead once you come off of the elevator.
URL:https://create.vegas/event/jazz-vegas-orchestra-live-28/
LOCATION:Notoriety\, 450 Fremont Street\, Suite 380\, Las Vegas\, NV\, 89101\, United States
CATEGORIES:Jazz Vegas Orchestra Live,Performing Arts
ATTACH;FMTTYPE=image/jpeg:https://create.vegas/wp-content/uploads/2024/09/jazz-vegas-thumb-RCIDK5.tmp_.jpg
END:VEVENT
BEGIN:VEVENT
DTSTART;TZID=America/Los_Angeles:20260506T210000
DTEND;TZID=America/Los_Angeles:20260507T010000
DTSTAMP:20260422T152807
CREATED:20260306T052252Z
LAST-MODIFIED:20260417T065105Z
UID:10033673-1778101200-1778115600@create.vegas
SUMMARY:Las Vegas Strip Club Crawl
DESCRIPTION:Free entry & VIP transportation to the best Strip Clubs in Vegas!
URL:https://create.vegas/event/las-vegas-strip-club-crawl-53/
LOCATION:Caesars Palace\, 3570 South Las Vegas Boulevard\, Paradise\, NV\, 89109\, United States
CATEGORIES:Food & Drink & Fun
ATTACH;FMTTYPE=image/jpeg:https://create.vegas/wp-content/uploads/2026/02/a6afa8ce28b26988a3427189f0ff8ae4.jpg
END:VEVENT
BEGIN:VEVENT
DTSTART;TZID=America/Los_Angeles:20260506T213000
DTEND;TZID=America/Los_Angeles:20260507T010000
DTSTAMP:20260422T152807
CREATED:20260313T053610Z
LAST-MODIFIED:20260417T065030Z
UID:10033753-1778103000-1778115600@create.vegas
SUMMARY:Las Vegas Club Crawl with Party Bus
DESCRIPTION:Party like a VIP at the best clubs in Vegas: Free entry\, and a party bus with free drinks!
URL:https://create.vegas/event/las-vegas-club-crawl-with-party-bus-400/
LOCATION:LA Epic Club Crawls\, Please check our website for starting location\, Las Vegas\, NV\, 89109\, United States
CATEGORIES:Food & Drink & Fun
ATTACH;FMTTYPE=image/jpeg:https://create.vegas/wp-content/uploads/2025/09/54339c18a39f77272fdd2fdb8168bc42.jpg
END:VEVENT
END:VCALENDAR