BEGIN:VCALENDAR
VERSION:2.0
PRODID:-//Create.Vegas - ECPv6.15.20//NONSGML v1.0//EN
CALSCALE:GREGORIAN
METHOD:PUBLISH
X-ORIGINAL-URL:https://create.vegas
X-WR-CALDESC:Events for Create.Vegas
REFRESH-INTERVAL;VALUE=DURATION:PT1H
X-Robots-Tag:noindex
X-PUBLISHED-TTL:PT1H
BEGIN:VTIMEZONE
TZID:America/Los_Angeles
BEGIN:DAYLIGHT
TZOFFSETFROM:-0800
TZOFFSETTO:-0700
TZNAME:PDT
DTSTART:20250309T100000
END:DAYLIGHT
BEGIN:STANDARD
TZOFFSETFROM:-0700
TZOFFSETTO:-0800
TZNAME:PST
DTSTART:20251102T090000
END:STANDARD
BEGIN:DAYLIGHT
TZOFFSETFROM:-0800
TZOFFSETTO:-0700
TZNAME:PDT
DTSTART:20260308T100000
END:DAYLIGHT
BEGIN:STANDARD
TZOFFSETFROM:-0700
TZOFFSETTO:-0800
TZNAME:PST
DTSTART:20261101T090000
END:STANDARD
BEGIN:DAYLIGHT
TZOFFSETFROM:-0800
TZOFFSETTO:-0700
TZNAME:PDT
DTSTART:20270314T100000
END:DAYLIGHT
BEGIN:STANDARD
TZOFFSETFROM:-0700
TZOFFSETTO:-0800
TZNAME:PST
DTSTART:20271107T090000
END:STANDARD
END:VTIMEZONE
BEGIN:VEVENT
DTSTART;TZID=America/Los_Angeles:20260226T213000
DTEND;TZID=America/Los_Angeles:20260330T040000
DTSTAMP:20260422T154920
CREATED:20260220T045200Z
LAST-MODIFIED:20260327T060651Z
UID:10033187-1772141400-1774843200@create.vegas
SUMMARY:STEVE AOKI on Las Vegas Party Bus Crawl
DESCRIPTION:STEVE AOKI live at HAKKASAN + party bus with FREE drinks\n\n\nCatch STEVE AOKI live in Las Vegas at the epic HAKKASAN Nightclub 🔥 \nEnjoy free express entry to multiple top venues\, an epic DJ set by STEVE AOKI \, and party bus transfers with nonstop drinks. This is the ultimate Las Vegas club crawl experience. \n \nLas Vegas Club Crawl Lineup: \n⭐️ JULIET at Venetian(check-in location) \n⭐️ TAO NIGHTCLUB \n🚌 Party Bus with FREE DRINKS \n⭐️ HAKKASAN Nightclub with performance by STEVE AOKI \n \nWhat’s included in this Las Vegas Party Bus Crawl : \n⭐️ Express\, FREE entry to all venues \n⭐️ Party Bus Ride with FREE drinks \n⭐️ Performance by STEVE AOKI at the final venue ( Hakkasan Nightclub) \n⭐️ Drink Specials at the starting venue \n⭐️ Private Party Hosts \n⭐️ Photos of The Crawl \n \nHow It Works: Meet your party hosts at the first venue listed on the lineup\, to check-in and pregame. Your party host will lead the group to all of the epic venues on the lineup! \n\n\n\n\n\n__________________________________________________________________________🎟️ CHECK-INCheck-in at 9:30PM . Please arrive no later than 10:15PM. Your hosts will be wearing blue lanyards and host badges around their necks . ** This ticket alone is not sufficient for entry to the nightclub. You must check-in with our tour staff. \n \n👗 DRESS CODE & PROHIBITED ITEMSAll participants must adhere to the dress code and prohibited item policies enforced by the venues. We recommend reviewing policies in advance . Click HERE for more info on Las Vegas Dress Code. \n \n⭐ Want a more personalized party experience?We also offer custom private club crawls—perfect for a VIP celebration\, like a birthday\, bachelor party\, or bachelorette party. Visit our Private Crawl Page on our website for more information and pricing! \n \nLA EPIC CLUB CRAWLS LAS VEGAS: Full refunds are permitted 30 days prior to the event. Credits will be given in the amount paid\, if requested 3 days prior to the event. Get more info on Las Vegas dress code here. \n\n\n_____________________________ \n📞 CONTACT US \n866-THE-EPIC or 866-843-3742 \nInfo@laepicclubcrawls.com \nwww.laepicclubcrawls.com
URL:https://create.vegas/event/steve-aoki-on-las-vegas-party-bus-crawl-2/
LOCATION:Hakkasan Nightclub\, 3799 S Las Vegas Blvd\, Las Vegas\, NV\, 89109\, United States
CATEGORIES:Food & Drink & Fun
ATTACH;FMTTYPE=image/jpeg:https://create.vegas/wp-content/uploads/2026/02/ce5e42514ddb95b63695ac92b6f1f7a5.jpg
END:VEVENT
BEGIN:VEVENT
DTSTART;TZID=America/Los_Angeles:20260307T200000
DTEND;TZID=America/Los_Angeles:20260308T030000
DTSTAMP:20260422T154920
CREATED:20260227T201846Z
LAST-MODIFIED:20260306T201833Z
UID:10033584-1772913600-1772938800@create.vegas
SUMMARY:We Are All EMO Here - EMO MUSIC NIGHT
DESCRIPTION:Drown your sorrows with us at our EMO Night with DJ Uffe and our live band.  Cocktails\, mocktails and depression are taking over FANDOM BAR!\n\n\nSATURDAY MARCH 7: For our upcoming “We Are All EMO Here”\, we are welcoming back: “Nostalgia Is Our Coping Mechanism” (NIOCM) for the Live Music part of the night! \nCome join us in your black attires to share\, feel & sing the Emo vibes and cheers to NIOCM performance while enjoying the Community with our signature cocktails and mocktails! \nEnjoy the Guerrilla Pizza Company (IG: @guerrillapizzaco) in our building with their true Detroit-style pizza\, thick\, chewy deep-dish crusts\, crispy & caramelized cheese edges\, and much more!  \nThey are open from:SUN – THUR: 10:30am – 10pmFRI – SAT: 10:30am – 1am \nDoors Open at 7pmNO COVER21+ ONLY \nCosplay or not\, Let’s Fandom
URL:https://create.vegas/event/we-are-all-emo-here-emo-music-night/
LOCATION:Millennium FANDOM BAR\, 900 South Las Vegas Boulevard\, #140\, Las Vegas\, NV\, 89101\, United States
CATEGORIES:Community Event
ATTACH;FMTTYPE=image/jpeg:https://create.vegas/wp-content/uploads/2026/02/67c139128629161c547b7b0583e68de1.jpg
END:VEVENT
BEGIN:VEVENT
DTSTART;TZID=America/Los_Angeles:20260307T203000
DTEND;TZID=America/Los_Angeles:20260308T003000
DTSTAMP:20260422T154920
CREATED:20251219T025020Z
LAST-MODIFIED:20260306T052118Z
UID:10032146-1772915400-1772929800@create.vegas
SUMMARY:Fremont Street Bar Crawl
DESCRIPTION:Fremont Street Bar Crawl gets you exclusive perks at the best bars in Old Vegas.
URL:https://create.vegas/event/fremont-street-bar-crawl-327/
LOCATION:Meeting Venue TBA – Check website for details\, Fremont St\, Las Vegas\, NV\, 89101\, United States
CATEGORIES:Food & Drink & Fun
ATTACH;FMTTYPE=image/jpeg:https://create.vegas/wp-content/uploads/2025/12/6209811cb488331552d7bc6caf142c54.jpg
END:VEVENT
BEGIN:VEVENT
DTSTART;TZID=America/Los_Angeles:20260307T203000
DTEND;TZID=America/Los_Angeles:20260308T010000
DTSTAMP:20260422T154920
CREATED:20260213T203319Z
LAST-MODIFIED:20260227T210322Z
UID:10033117-1772915400-1772931600@create.vegas
SUMMARY:Dueling Pianos: Free Guest List & BOGO Drink Ticket When You Sign Up
DESCRIPTION:Discover CASBAR Lounge at SAHARA Las Vegas – where the night comes alive!
URL:https://create.vegas/event/dueling-pianos-free-guest-list-bogo-drink-ticket-when-you-sign-up-28/
LOCATION:CASBAR Lounge\, 2535 South Las Vegas Boulevard\, Las Vegas\, NV\, 89109\, United States
ATTACH;FMTTYPE=image/jpeg:https://create.vegas/wp-content/uploads/2025/11/ef12815306acdd5822f9f5ff81d8e2a5.jpg
END:VEVENT
BEGIN:VEVENT
DTSTART;TZID=America/Los_Angeles:20260307T210000
DTEND;TZID=America/Los_Angeles:20260308T010000
DTSTAMP:20260422T154920
CREATED:20260227T050756Z
LAST-MODIFIED:20260306T052234Z
UID:10033538-1772917200-1772931600@create.vegas
SUMMARY:Las Vegas Strip Club Crawl
DESCRIPTION:Free entry & VIP transportation to the best Strip Clubs in Vegas!
URL:https://create.vegas/event/las-vegas-strip-club-crawl-8/
LOCATION:Caesars Palace\, 3570 South Las Vegas Boulevard\, Paradise\, NV\, 89109\, United States
CATEGORIES:Food & Drink & Fun
ATTACH;FMTTYPE=image/jpeg:https://create.vegas/wp-content/uploads/2026/02/a6afa8ce28b26988a3427189f0ff8ae4.jpg
END:VEVENT
BEGIN:VEVENT
DTSTART;TZID=America/Los_Angeles:20260307T213000
DTEND;TZID=America/Los_Angeles:20260308T010000
DTSTAMP:20260422T154920
CREATED:20260102T032057Z
LAST-MODIFIED:20260306T052103Z
UID:10032461-1772919000-1772931600@create.vegas
SUMMARY:Las Vegas Club Crawl with Party Bus
DESCRIPTION:Party like a VIP at the best clubs in Vegas: Free entry\, and a party bus with free drinks!
URL:https://create.vegas/event/las-vegas-club-crawl-with-party-bus-349/
LOCATION:LA Epic Club Crawls\, Please check our website for starting location\, Las Vegas\, NV\, 89109\, United States
CATEGORIES:Food & Drink & Fun
ATTACH;FMTTYPE=image/jpeg:https://create.vegas/wp-content/uploads/2025/09/54339c18a39f77272fdd2fdb8168bc42.jpg
END:VEVENT
BEGIN:VEVENT
DTSTART;TZID=America/Los_Angeles:20260308T000000
DTEND;TZID=America/Los_Angeles:20260308T235959
DTSTAMP:20260422T154920
CREATED:20240314T183748Z
LAST-MODIFIED:20260306T024746Z
UID:10019674-1772928000-1773014399@create.vegas
SUMMARY:11AM-4PM: Surf Sunday Brunch: Live Surf/Rock Music
DESCRIPTION:Our weekly Surf Sunday Brunch\nLIVE MUSIC every Sunday 12pm-3pm\nBRUNCH SERVED 11am – 4pm
URL:https://create.vegas/event/11am-4pm-surf-sunday-brunch-live-surf-rock-music-14/
LOCATION:NV
END:VEVENT
BEGIN:VEVENT
DTSTART;TZID=America/Los_Angeles:20260308T100000
DTEND;TZID=America/Los_Angeles:20260308T140000
DTSTAMP:20260422T154920
CREATED:20260224T204751Z
LAST-MODIFIED:20260224T204751Z
UID:10033222-1772964000-1772978400@create.vegas
SUMMARY:Las Vegas Farmers Market
DESCRIPTION:Join us every Sunday as we welcome the amazing vendors and team behind Las Vegas Farmers Market to UnCommons from 10am – 2pm. \nKnown for its popular markets at Downtown Summerlin and The District at Green Valley Ranch\, the Las Vegas Farmers Market will bring an eclectic mix of fresh seasonal produce\, handcrafted gifts\, fresh-baked goods\, locally made sauces and more to UnCommons. By providing local farmers and businesses with a venue to showcase their goods\, the Las Vegas Farmers Market promotes community ties and honors the importance of locally sourced food. This collaboration with UnCommons creates an opportunity for residents and visitors to support local farmers and small businesses in a lively community setting. 
URL:https://create.vegas/event/las-vegas-farmers-market-57/
LOCATION:UnCommons
CATEGORIES:Food & Drink & Fun
ATTACH;FMTTYPE=image/jpeg:https://create.vegas/wp-content/uploads/2025/01/jordan-gonzalez-wzMaxtcygQA-unsplash-1Opzk8.tmp_-scaled.jpg
END:VEVENT
BEGIN:VEVENT
DTSTART;TZID=America/Los_Angeles:20260308T120000
DTEND;TZID=America/Los_Angeles:20260308T160000
DTSTAMP:20260422T154920
CREATED:20260224T230421Z
LAST-MODIFIED:20260224T230421Z
UID:10033337-1772971200-1772985600@create.vegas
SUMMARY:Home Truth: Image-making in Absence\, Photography by Steven Seidenberg
DESCRIPTION:The photographic practice of Steven Seidenberg explores a material world of the unnoticed\, fixing attention on structures\, environments\, and landscapes often hidden in plain sight. Three photographic series are combined in this exhibition; each focuses on past and present living conditions in a different area of the world (Puglia and Rome\, Italy; Kanazawa\, Japan). Seidenberg’s richly detailed images capture current and former living spaces—houses\, tents\, outbuildings\, and empty lots— providing the viewer with ideas about the lived environment\, how space is used\, and how humans travel through and live within the spaces they occupy under wide-ranging material conditions. \nImage: Steven Seidenberg from the series\, The Architecture of Silence: Abandoned Lives of the Italian South\, photograph\, courtesy of the artist
URL:https://create.vegas/event/home-truth-image-making-in-absence-photography-by-steven-seidenberg-41/
LOCATION:John and Geraldine Lilley Museum of Art\, University Arts Building - 1664 N. Virginia St.\, Reno\, NV\, 89557\, United States
CATEGORIES:Exhibit,Performing Arts
ATTACH;FMTTYPE=image/jpeg:https://create.vegas/wp-content/uploads/2026/01/seidenberg-scaled-tjz0g4.jpg
ORGANIZER;CN="John and Geraldine Lilley Museum of Art":MAILTO:thelilley@unr.edu
END:VEVENT
BEGIN:VEVENT
DTSTART;TZID=America/Los_Angeles:20260308T120000
DTEND;TZID=America/Los_Angeles:20260308T160000
DTSTAMP:20260422T154920
CREATED:20260224T230421Z
LAST-MODIFIED:20260224T230421Z
UID:10033338-1772971200-1772985600@create.vegas
SUMMARY:20th Annual Photo Fandango Reception
DESCRIPTION:Join us at the Artist Co-op for the 20th Annual Photo Fandango: “Shoot Your Best Shot”\n\nReception: Sunday\, March 8\, from 12-4 p.m.627 Mill St.\, Reno\, NV 89502\n\nGuest Artist: Alice Kreider\n\nExhibit open March 1-31\, 2026\n\nOver two-dozen local photographers will showcase their best work\, much of which has never been exhibited in any gallery until now. In March\, you will see Landscapes\, Abstracts\, Portraits\, Wildlife\, and more at the Artists Co-op.
URL:https://create.vegas/event/20th-annual-photo-fandango-reception/
LOCATION:Artist Co-op Gallery of Reno\, 627 Mill St.\, Reno\, NV\, 89505\, United States
CATEGORIES:Exhibit,Family Friendly,Performing Arts,Reception,Visual
ATTACH;FMTTYPE=image/jpeg:https://create.vegas/wp-content/uploads/2026/02/Photo-Fandango-2026-Web-Version-002-W1ID0l.jpg
END:VEVENT
BEGIN:VEVENT
DTSTART;TZID=America/Los_Angeles:20260308T133000
DTEND;TZID=America/Los_Angeles:20260308T153000
DTSTAMP:20260422T154920
CREATED:20260224T230422Z
LAST-MODIFIED:20260224T230422Z
UID:10033339-1772976600-1772983800@create.vegas
SUMMARY:Bat Boy: The Musical
DESCRIPTION:Story and book by Keythe Farley and Brian Flemming\nMusic and lyrics by Laurence O’Keefe\nDirected by Susanna Vaughan\nMusic Direction by Aren Long\nChoreography by Nate Hodges   \n\n\nReserved Seating: Adults: $25; University of Nevada\, Reno Faculty & Staff\, Seniors (65+)\, Non-UNR Students: $20; UNR Students: $5 (Additional transaction fees may apply). Tickets and information at unr.edu/theatre-dance
URL:https://create.vegas/event/bat-boy-the-musical-3/
LOCATION:Redfield Proscenium Theatre\, Church Fine Arts\, University of Nevada\, Reno\, 1335 N. Virginia St.\, Reno\, NV\, 89512\, United States
CATEGORIES:Performing,Performing Arts
ATTACH;FMTTYPE=image/jpeg:https://create.vegas/wp-content/uploads/2026/02/UNRDTD-250149-Bat-Boy-Musical-Poster-F-5-scaled-bHLxYy.jpg
ORGANIZER;CN="Department of Theatre and Dance &#8211%3B University of Nevada%2C Reno":MAILTO:theatreanddance@unr.edu
END:VEVENT
BEGIN:VEVENT
DTSTART;TZID=America/Los_Angeles:20260308T140000
DTEND;TZID=America/Los_Angeles:20260308T160000
DTSTAMP:20260422T154920
CREATED:20260224T230422Z
LAST-MODIFIED:20260224T230422Z
UID:10033340-1772978400-1772985600@create.vegas
SUMMARY:Honoring the Women Who’ve Shaped Us: A Writing Workshop with Jillian Makoutz
DESCRIPTION:Join local poet Jillian Makoutz from Grass and Sky Press for a poetry workshop that encourages you to honor a special woman in your life. We’re delighted to welcome Makoutz for this special celebration of International Women’s Day. \nWe’ll begin with a discussion about the process of honoring a woman in your life\, different ways you can approach that concept\, and some writing prompts to get your creativity flowing. Makoutz will also share a few of her own poems on the subject as she teaches. \nThen\, we’ll move into writing time as you create an original poem or written piece that honors a woman in your life that has shaped who you are. You may find it meaningful to bring a photo or some sort of memorabilia of the woman you are honoring to inspire you. This isn’t a requirement! \nAfter writing\, we’ll take time at the end of the class for those who would like to read their pieces aloud. \nAll materials are provided\, including a journal and blackwing pencil for all your writing needs\, so just plan to bring yourself\, a memento (if you’d like!)\, and maybe some Kleenex. You’ll also receive a signed copy of Jillian Makoutz’s book\, Four Seasons in the Sierra. \nYoung guests junior high age and above are welcome to attend!
URL:https://create.vegas/event/honoring-the-women-whove-shaped-us-a-writing-workshop-with-jillian-makoutz/
LOCATION:Wyld Market Collective\, 1640 S Wells Ave\, Reno\, NV\, 89502\, United States
CATEGORIES:Class,Literary,Performing Arts
ORGANIZER;CN="Wandering Wyld":MAILTO:hello@wanderingwyld.com
END:VEVENT
BEGIN:VEVENT
DTSTART;TZID=America/Los_Angeles:20260308T160000
DTEND;TZID=America/Los_Angeles:20260308T180000
DTSTAMP:20260422T154920
CREATED:20260224T230423Z
LAST-MODIFIED:20260224T230423Z
UID:10033341-1772985600-1772992800@create.vegas
SUMMARY:THE ART OF BIG BAND MUSIC BY THE RENO JAZZ ORCHESTRA
DESCRIPTION:Reno Jazz Orchestra (RJO) transforms the stage into a time machine\, presenting a performance of 100 years of the boldest\, brightest\, and most swinging big band jazz music on March 8\, 2026\, at the University of Nevada\, Reno. \nReno Jazz Orchestra’s Music Director\, Greg Johnson\, Ph.D.; and four-time Grammy-nominated and internationally renowned trumpeter\, Mike Rocha\, join the powerhouse music of the 17-piece jazz orchestra for an unforgettable adventure through jazz history as they present “Thee Art of Big Band” concert. \n“Guest performer Mike Rocha is a talented and charismatic force in this age of musical enterprise\,” Johnson said. “Whether performing in formal orchestral settings\, high-profile cinema appearances\, in a jazz orchestra\, or in costume singing and dancing\, he is noted for his professional excellence and integrity.” \nWhile Rocha plays with countless ensembles\, he is most noted for his work with the Lappitt-Rocha Septet\, who recently recorded their first album\, “First Take.” Other artists’ groups include Christina Aguilera\, Bob Dylan\, Lorde\, Panic! at the Disco\, Trisha Yearwood\, Idina Menzel\, Alfie Boe and Gordon Goodwin’s Big Phat Band & Little Phat Band\, among many others. \nPrices range from $10 for students with I.D. and pre-reserved seats priced at $40 and $50 through the nonprofit organization’s website RenoJazzOrchestra.org. The concerts are part of the Reno Jazz Orchestra’s “Quintessence Music Series\,” which offers special reduced rates for those who purchase tickets for this concert and “An Afternoon of Romance ~ The Al Jarreau Project\,” May 10\, 2026\, on Mother’s Day.
URL:https://create.vegas/event/the-art-of-big-band-music-by-the-reno-jazz-orchestra/
LOCATION:Nightingale Concert Hall\, Church Fine Arts Building\, University of Nevada\, Reno\, 1335 N Virginia St\, Reno\, NV\, 89512\, United States
CATEGORIES:Family Friendly,Performing,Performing Arts
ATTACH;FMTTYPE=image/jpeg:https://create.vegas/wp-content/uploads/2026/02/The-Art-of-Big-Band-Music-with-the-Reno-Jazz-Orchestra-LICE8B.jpg
ORGANIZER;CN="Reno Jazz Orchestra":MAILTO:info@renojazzorchestra.org
END:VEVENT
BEGIN:VEVENT
DTSTART;TZID=America/Los_Angeles:20260308T160000
DTEND;TZID=America/Los_Angeles:20260309T010000
DTSTAMP:20260422T154920
CREATED:20260306T201833Z
LAST-MODIFIED:20260306T201833Z
UID:10033697-1772985600-1773018000@create.vegas
SUMMARY:SUNDAYS After-Brunch! Fandom Social & Bingo!
DESCRIPTION:Spend Sundays with us! Our Fandom Social and Bingo party are  filled fun and friends! Happy Hour\, pizza\, mimosas! See you Sunday!
URL:https://create.vegas/event/sundays-after-brunch-fandom-social-bingo/
LOCATION:Millennium FANDOM BAR\, 900 South Las Vegas Boulevard\, #140\, Las Vegas\, NV\, 89101\, United States
CATEGORIES:Community Event
ATTACH;FMTTYPE=image/jpeg:https://create.vegas/wp-content/uploads/2026/03/1dc25a480f0e9a6ef84df90bfef24a29.jpg
END:VEVENT
BEGIN:VEVENT
DTSTART;TZID=America/Los_Angeles:20260308T170000
DTEND;TZID=America/Los_Angeles:20260308T200000
DTSTAMP:20260422T154920
CREATED:20260307T040311Z
LAST-MODIFIED:20260307T040323Z
UID:10033711-1772989200-1773000000@create.vegas
SUMMARY:Happy Hour in Las Vegas at 18bin
DESCRIPTION:Join us for Happy Hour at 18bin! Enjoy top drink deals\, delicious bites\, and a vibrant atmosphere. Perfect for socializing in Downtown Vegas
URL:https://create.vegas/event/happy-hour-in-las-vegas-at-18bin-745/
LOCATION:18bin\, 107 East Charleston Boulevard\, #Suite 150\, Las Vegas\, NV\, 89104\, United States
CATEGORIES:Food & Drink & Fun
ATTACH;FMTTYPE=image/jpeg:https://create.vegas/wp-content/uploads/2024/12/a91f9bf5bb7e758f24f1e4e869c5157a.jpg
END:VEVENT
BEGIN:VEVENT
DTSTART;TZID=America/Los_Angeles:20260308T183000
DTEND;TZID=America/Los_Angeles:20260308T235900
DTSTAMP:20260422T154920
CREATED:20260210T162206Z
LAST-MODIFIED:20260303T163313Z
UID:10033076-1772994600-1773014340@create.vegas
SUMMARY:Spirit of the King: The Ultimate ELVIS Show
DESCRIPTION:The ultimate Elvis tribute show starring Steve Connolly\, an acclaimed Elvis artist\, With over 12\,000 public and ticketed shows\, along with numerous private and corporate events Connolly’s performances have captivated audiences worldwide.  \nBuy Tickets \nBeyond delivering Presley’s iconic hits\, Connolly offers a captivating journey through time\, allowing audiences to witness the legendary musician’s live performance in a mesmerizing experience. With an unparalleled ability to capture Elvis’s sound\, appearance\, and charisma\, Connolly’s act combines artistry and comedy\, bringing joy and happiness through rock ‘n’ roll entertainment. Experience the essence of Elvis right here in Fabulous Las Vegas\, where Connolly continues Elvis’ legacy of transforming the city into a global entertainment hub. \n\n \nMeet and greet after the show free of charge to everyone! \nBuy Tickets \nAll Ages (3+) \nDoors at 6:00 PM\nShow time at 6:30 PM \nPARKING INFO: Parking is available underneath Neonopolis from 4th street and Fremont\, the ramp is on the right side of the street just past Denny’s. Park on level P2. Once parked\, take the parking elevator from the parking garage up to the 3rd floor. Notoriety’s doors are straight ahead once you come off of the elevator.
URL:https://create.vegas/event/spirit-of-the-king-the-ultimate-elvis-show-222/
LOCATION:Notoriety\, 450 Fremont Street\, Suite 380\, Las Vegas\, NV\, 89101\, United States
CATEGORIES:Performing Arts,Spirit of the King: The Ultimate ELVIS Show
ATTACH;FMTTYPE=image/jpeg:https://create.vegas/wp-content/uploads/2024/12/SpiritoftheKing-home01-wt5VuV.tmp_.jpg
END:VEVENT
BEGIN:VEVENT
DTSTART;TZID=America/Los_Angeles:20260308T190000
DTEND;TZID=America/Los_Angeles:20260308T230000
DTSTAMP:20260422T154920
CREATED:20260306T053349Z
LAST-MODIFIED:20260306T053349Z
UID:10033678-1772996400-1773010800@create.vegas
SUMMARY:Rita Lim — Live Every Sunday @ Piazza Lounge
DESCRIPTION:Free entry! Rita Lim performs live every Sunday 7PM–11PM at Piazza Lounge — soulful vocals\, cocktails & chill vibes.\n\n\n🎤 Rita Lim — Live Every Sunday!Wind down your weekend with the smooth\, soulful sounds of Rita Lim — performing live every Sunday at Piazza Lounge! \n🗓 When:Every Sunday | 7:00 PM – 11:00 PMArrive early for best seating and great drinks! \n📍 Where:Piazza Lounge – an inviting lounge setting perfect for live music\, cocktails\, and relaxing with friends. \n🎟 Free Entry – No Cover Charge!Enjoy live music every Sunday night with complimentary admission — just show up and enjoy the vibe. \n🍸 What to Expect:• Soulful vocals and live performance from Rita Lim• A laid-back Sunday evening atmosphere• Cocktails\, wine\, and lounge bites available throughout the show \nWhether you’re wrapping up your weekend or starting your week with good music\, join us Sundays for a night of rhythm\, relaxation\, and great company!
URL:https://create.vegas/event/rita-lim-live-every-sunday-piazza-lounge/
LOCATION:Piazza Lounge\, 255 East Flamingo Road\, Las Vegas\, NV\, 89169\, United States
CATEGORIES:Jazz & Blues
ATTACH;FMTTYPE=image/jpeg:https://create.vegas/wp-content/uploads/2026/03/e15619af9fbd510e5dd8a9f907f888a1.jpg
END:VEVENT
BEGIN:VEVENT
DTSTART;TZID=America/Los_Angeles:20260308T203000
DTEND;TZID=America/Los_Angeles:20260308T235900
DTSTAMP:20260422T154920
CREATED:20260210T162208Z
LAST-MODIFIED:20260224T163328Z
UID:10033045-1773001800-1773014340@create.vegas
SUMMARY:Vinnie Favorito Unfiltered
DESCRIPTION:Las Vegas comedian Vinnie Favorito is known as a celebrity roaster. He has roasted Magic Johnson\, Pat O’Brien\, Jerry Springer\, Larry\, Flynt\, Arnold Schwarzenegger\, Stan\, Winston\, and many others. \nHe is a blue-collar comedian known for his quick wit\, politically incorrect\, but does it with liability. Every show is like a celebrity roast and you could be the next celebrity….. no one is safe. \nBuy Tickets \nAges: 18+ \nDoors at 8:00 PM\nShow time at 8:30 PM \nPARKING INFO: Parking is available underneath Neonopolis from 4th street and Fremont\, the ramp is on the right side of the street just past Denny’s. Park on level P2. Once parked\, take the parking elevator from the parking garage up to the 3rd floor. Notoriety’s doors are straight ahead once you come off of the elevator.
URL:https://create.vegas/event/vinnie-favorito-unfiltered-164/
LOCATION:Notoriety\, 450 Fremont Street\, Suite 380\, Las Vegas\, NV\, 89101\, United States
CATEGORIES:Performing Arts,Vinnie Favorito Unfiltered
ATTACH;FMTTYPE=image/jpeg:https://create.vegas/wp-content/uploads/2025/01/Vinnie-01-fOluMY.tmp_.jpg
END:VEVENT
BEGIN:VEVENT
DTSTART;TZID=America/Los_Angeles:20260308T203000
DTEND;TZID=America/Los_Angeles:20260309T003000
DTSTAMP:20260422T154920
CREATED:20251219T025020Z
LAST-MODIFIED:20260306T052118Z
UID:10032147-1773001800-1773016200@create.vegas
SUMMARY:Fremont Street Bar Crawl
DESCRIPTION:Fremont Street Bar Crawl gets you exclusive perks at the best bars in Old Vegas.
URL:https://create.vegas/event/fremont-street-bar-crawl-328/
LOCATION:Meeting Venue TBA – Check website for details\, Fremont St\, Las Vegas\, NV\, 89101\, United States
CATEGORIES:Food & Drink & Fun
ATTACH;FMTTYPE=image/jpeg:https://create.vegas/wp-content/uploads/2025/12/6209811cb488331552d7bc6caf142c54.jpg
END:VEVENT
BEGIN:VEVENT
DTSTART;TZID=America/Los_Angeles:20260308T210000
DTEND;TZID=America/Los_Angeles:20260309T010000
DTSTAMP:20260422T154920
CREATED:20260227T050757Z
LAST-MODIFIED:20260306T052234Z
UID:10033539-1773003600-1773018000@create.vegas
SUMMARY:Las Vegas Strip Club Crawl
DESCRIPTION:Free entry & VIP transportation to the best Strip Clubs in Vegas!
URL:https://create.vegas/event/las-vegas-strip-club-crawl-9/
LOCATION:Caesars Palace\, 3570 South Las Vegas Boulevard\, Paradise\, NV\, 89109\, United States
CATEGORIES:Food & Drink & Fun
ATTACH;FMTTYPE=image/jpeg:https://create.vegas/wp-content/uploads/2026/02/a6afa8ce28b26988a3427189f0ff8ae4.jpg
END:VEVENT
BEGIN:VEVENT
DTSTART;TZID=America/Los_Angeles:20260308T213000
DTEND;TZID=America/Los_Angeles:20260309T010000
DTSTAMP:20260422T154920
CREATED:20260102T032058Z
LAST-MODIFIED:20260306T052103Z
UID:10032462-1773005400-1773018000@create.vegas
SUMMARY:Las Vegas Club Crawl with Party Bus
DESCRIPTION:Party like a VIP at the best clubs in Vegas: Free entry\, and a party bus with free drinks!
URL:https://create.vegas/event/las-vegas-club-crawl-with-party-bus-350/
LOCATION:LA Epic Club Crawls\, Please check our website for starting location\, Las Vegas\, NV\, 89109\, United States
CATEGORIES:Food & Drink & Fun
ATTACH;FMTTYPE=image/jpeg:https://create.vegas/wp-content/uploads/2025/09/54339c18a39f77272fdd2fdb8168bc42.jpg
END:VEVENT
BEGIN:VEVENT
DTSTART;TZID=America/Los_Angeles:20260308T213000
DTEND;TZID=America/Los_Angeles:20260309T040000
DTSTAMP:20260422T154920
CREATED:20260306T052154Z
LAST-MODIFIED:20260306T052154Z
UID:10033669-1773005400-1773028800@create.vegas
SUMMARY:Art of the Wild - Las Vegas Party Bus Crawl
DESCRIPTION:Party bus with FREE drinks + Art of the Wild\n\n\nParty at the best clubs in Las Vegas\, like XS Nightclub\, on our Las Vegas Party Bus Crawl 🔥 \nWe’re hitting multiple top venues throughout the night — and closing it out at Art of the Wild Festival at XS Nightclub as our last stop. \nExpect a stacked lineup featuring DESH\, LIVA K\, MAU P\, ROBERTO PATRON & TALÓN. \n \nVegas Club Crawl Lineup:\n⭐️ F1 ARCADE BAR at  Forum Shops  (Check-in Location – 9:30PM) \n⭐️ Omnia Nightclub \n🚌 Party Bus with FREE Drinks \n⭐️ XS Nightclub – Art of the Wild Festival \n \nWhat’s Included:\n⭐️ Express\, FREE entry to all venues \n⭐️ Party Bus Ride with FREE drinks \n⭐️ Entry to Art of the Wild at XS Nightclub \n⭐️ Drink Specials at F1 Arcade Bar \n⭐️ Private Party Hosts \n \nHow this Vegas Crawl works:\nMeet your party hosts at F1 ARCADE BAR inside Casears Forum Shops\, at 9:30PM to check in and start the pregame. From there\, we guide you through each venue on the lineup before ending the night at XS Nightclub for Art of the Wild — no waiting in long lines\, no stress\, just VIP partying all night. You can also view the full lineup on our website. \n\n\n\n\n\nCHECK-INCheck-in at 9:30PM . Please arrive no later than 10:15PM. Your hosts will be wearing blue lanyards and host badges around their necks . ** ***This ticket alone is not sufficient for entry to the nightclub. You must check-in with our tour staff. \n \nDRESS CODE & PROHIBITED ITEMSAll participants must adhere to the dress code and prohibited item policies enforced by the venues. We recommend reviewing policies in advance . Click HERE for more info on Las Vegas Dress Code. \n \n⭐ Want a more personalized party experience?We also offer custom private club crawls—perfect for a VIP celebration\, like a birthday\, bachelor party\, or bachelorette party. Visit our Private Crawl Page on our website for more information and pricing! \n \nLA EPIC CLUB CRAWLS LAS VEGAS: Full refunds are permitted 30 days prior to the event. Credits will be given in the amount paid\, if requested 3 days prior to the event. Get more info on Las Vegas dress code here. \n\n\n_____________________________ \n📞 CONTACT US \n866-THE-EPIC or 866-843-3742 \nInfo@laepicclubcrawls.com \nwww.laepicclubcrawls.com
URL:https://create.vegas/event/art-of-the-wild-las-vegas-party-bus-crawl-2/
LOCATION:XS Nightclub\, 3131 S Las Vegas Blvd\, Las Vegas\, NV\, 89109\, United States
CATEGORIES:Food & Drink & Fun
ATTACH;FMTTYPE=image/jpeg:https://create.vegas/wp-content/uploads/2026/03/56a28de6c9cd34442f439325dad0adde.jpg
END:VEVENT
END:VCALENDAR